BEGIN:VCALENDAR
VERSION:2.0
PRODID:-//St Martin&#039;s Morden SM4 - ECPv6.15.20//NONSGML v1.0//EN
CALSCALE:GREGORIAN
METHOD:PUBLISH
X-WR-CALNAME:St Martin&#039;s Morden SM4
X-ORIGINAL-URL:https://www.stmartinsmorden.org.uk
X-WR-CALDESC:Events for St Martin&#039;s Morden SM4
REFRESH-INTERVAL;VALUE=DURATION:PT1H
X-Robots-Tag:noindex
X-PUBLISHED-TTL:PT1H
BEGIN:VTIMEZONE
TZID:Europe/London
BEGIN:DAYLIGHT
TZOFFSETFROM:+0000
TZOFFSETTO:+0100
TZNAME:BST
DTSTART:20180325T010000
END:DAYLIGHT
BEGIN:STANDARD
TZOFFSETFROM:+0100
TZOFFSETTO:+0000
TZNAME:GMT
DTSTART:20181028T010000
END:STANDARD
BEGIN:DAYLIGHT
TZOFFSETFROM:+0000
TZOFFSETTO:+0100
TZNAME:BST
DTSTART:20190331T010000
END:DAYLIGHT
BEGIN:STANDARD
TZOFFSETFROM:+0100
TZOFFSETTO:+0000
TZNAME:GMT
DTSTART:20191027T010000
END:STANDARD
BEGIN:DAYLIGHT
TZOFFSETFROM:+0000
TZOFFSETTO:+0100
TZNAME:BST
DTSTART:20200329T010000
END:DAYLIGHT
BEGIN:STANDARD
TZOFFSETFROM:+0100
TZOFFSETTO:+0000
TZNAME:GMT
DTSTART:20201025T010000
END:STANDARD
BEGIN:DAYLIGHT
TZOFFSETFROM:+0000
TZOFFSETTO:+0100
TZNAME:BST
DTSTART:20210328T010000
END:DAYLIGHT
BEGIN:STANDARD
TZOFFSETFROM:+0100
TZOFFSETTO:+0000
TZNAME:GMT
DTSTART:20211031T010000
END:STANDARD
END:VTIMEZONE
BEGIN:VEVENT
DTSTART;TZID=Europe/London:20200301T103000
DTEND;TZID=Europe/London:20200301T120000
DTSTAMP:20260422T225305
CREATED:20180225T134813Z
LAST-MODIFIED:20191229T235738Z
UID:994-1583058600-1583064000@www.stmartinsmorden.org.uk
SUMMARY:Sharing Jesus: pray
DESCRIPTION:Matthew 9:35–10:20\nPrayer ministry and refreshments are available after the service.\nVisitors are welcome.\n\n\n\nShare this Post
URL:https://www.stmartinsmorden.org.uk/event/sunday-morning-service-1st-march-2020/
CATEGORIES:Sunday
END:VEVENT
BEGIN:VEVENT
DTSTART;TZID=Europe/London:20200226T150000
DTEND;TZID=Europe/London:20200226T150000
DTSTAMP:20260422T225305
CREATED:20191230T001435Z
LAST-MODIFIED:20200216T131009Z
UID:1895-1582729200-1582729200@www.stmartinsmorden.org.uk
SUMMARY:Talking Jesus
DESCRIPTION:A course to inspire us to share our faith and give us practical suggestions to help us talk naturally about Jesus.  There are 6 encouraging\, video-based sessions with short films\, testimonies and bible studies. \nWe are running afternoon sessions at 3pm and evening sessions at 7:45pm on the following days: \n26 February\n4 March\n11 March\n18 March\n25 March\n1 April \nThere is a course booklet priced £1.  If you’d like a booklet\, there is an order sheet at the back of the church. \n\n\n\nShare this Post
URL:https://www.stmartinsmorden.org.uk/event/talking-jesus/
CATEGORIES:Lent Course
END:VEVENT
BEGIN:VEVENT
DTSTART;TZID=Europe/London:20200226T100000
DTEND;TZID=Europe/London:20200226T100000
DTSTAMP:20260422T225305
CREATED:20180211T173512Z
LAST-MODIFIED:20200219T225722Z
UID:952-1582711200-1582711200@www.stmartinsmorden.org.uk
SUMMARY:Ash Wednesday service (at Emmanuel)
DESCRIPTION:The parish’s annual service marking the start of Lent. \n\n\n\nShare this Post
URL:https://www.stmartinsmorden.org.uk/event/ash-wednesday-2020/
LOCATION:Emmanuel Church\, Dudley Drive\, SM4 4RJ\, United Kingdom
CATEGORIES:Additional service
END:VEVENT
BEGIN:VEVENT
DTSTART;TZID=Europe/London:20200223T103000
DTEND;TZID=Europe/London:20200223T120000
DTSTAMP:20260422T225305
CREATED:20180225T132613Z
LAST-MODIFIED:20191229T235606Z
UID:984-1582453800-1582459200@www.stmartinsmorden.org.uk
SUMMARY:All that I am I give to you
DESCRIPTION:John 12:41-44\nPrayer ministry and refreshments are available after the service.\nVisitors are welcome.\n\n\n\nShare this Post
URL:https://www.stmartinsmorden.org.uk/event/sunday-morning-service-23rd-february-2020/
CATEGORIES:Sunday
END:VEVENT
BEGIN:VEVENT
DTSTART;TZID=Europe/London:20200217T193000
DTEND;TZID=Europe/London:20200217T193000
DTSTAMP:20260422T225305
CREATED:20190407T150811Z
LAST-MODIFIED:20200112T141451Z
UID:1707-1581967800-1581967800@www.stmartinsmorden.org.uk
SUMMARY:Games evening
DESCRIPTION:Games evening is a great opportunity to come together\, relax\, make friends and play games. A selection of card games\, board games and table top games will be available. If you have a favourite game\, then bring it along. \nRefreshments will be provided. \nAll are welcome. \n\n\n\nShare this Post
URL:https://www.stmartinsmorden.org.uk/event/games-evening-february-2020/
CATEGORIES:Additional event
END:VEVENT
BEGIN:VEVENT
DTSTART;TZID=Europe/London:20200216T103000
DTEND;TZID=Europe/London:20200216T120000
DTSTAMP:20260422T225305
CREATED:20171124T202356Z
LAST-MODIFIED:20191229T235429Z
UID:786-1581849000-1581854400@www.stmartinsmorden.org.uk
SUMMARY:Family service (all-age gathering)
DESCRIPTION:Prayer ministry and refreshments are available after the service.\nVisitors are welcome.\n\n\n\nShare this Post
URL:https://www.stmartinsmorden.org.uk/event/sunday-morning-service-16th-february-2020/
CATEGORIES:Sunday
END:VEVENT
BEGIN:VEVENT
DTSTART;TZID=Europe/London:20200209T103000
DTEND;TZID=Europe/London:20200209T120000
DTSTAMP:20260422T225305
CREATED:20171124T202345Z
LAST-MODIFIED:20191229T235319Z
UID:785-1581244200-1581249600@www.stmartinsmorden.org.uk
SUMMARY:Belief or unbelief
DESCRIPTION:John 12:37-50\nPrayer ministry and refreshments are available after the service.\nVisitors are welcome.\n\n\n\nShare this Post
URL:https://www.stmartinsmorden.org.uk/event/sunday-morning-service-9th-february-2020/
CATEGORIES:Sunday
END:VEVENT
BEGIN:VEVENT
DTSTART;TZID=Europe/London:20200202T130000
DTEND;TZID=Europe/London:20200202T130000
DTSTAMP:20260422T225305
CREATED:20190106T175047Z
LAST-MODIFIED:20200105T124821Z
UID:1506-1580648400-1580648400@www.stmartinsmorden.org.uk
SUMMARY:Life Explored (including lunch)
DESCRIPTION:Life Explored is an informal 4-week course for anyone who wants to find true contentment and happiness in life. \n\n\n\n\nShare this Post
URL:https://www.stmartinsmorden.org.uk/event/life-explored-2-feb-2020/
CATEGORIES:Life Explored
END:VEVENT
BEGIN:VEVENT
DTSTART;TZID=Europe/London:20200202T103000
DTEND;TZID=Europe/London:20200202T120000
DTSTAMP:20260422T225305
CREATED:20171124T202411Z
LAST-MODIFIED:20191229T232522Z
UID:788-1580639400-1580644800@www.stmartinsmorden.org.uk
SUMMARY:Life or death
DESCRIPTION:John 12:20-36\nPrayer ministry and refreshments are available after the service.\nVisitors are welcome.\n\n\n\nShare this Post
URL:https://www.stmartinsmorden.org.uk/event/sunday-morning-service-2nd-february-2020/
CATEGORIES:Sunday
END:VEVENT
BEGIN:VEVENT
DTSTART;TZID=Europe/London:20200126T130000
DTEND;TZID=Europe/London:20200126T130000
DTSTAMP:20260422T225305
CREATED:20190226T200545Z
LAST-MODIFIED:20200105T124615Z
UID:1622-1580043600-1580043600@www.stmartinsmorden.org.uk
SUMMARY:Life Explored (including lunch)
DESCRIPTION:Life Explored is an informal 4-week course for anyone who wants to find true contentment and happiness in life. \n\n\n\n\nShare this Post
URL:https://www.stmartinsmorden.org.uk/event/life-explored-26-jan-2020/
CATEGORIES:Life Explored
END:VEVENT
BEGIN:VEVENT
DTSTART;TZID=Europe/London:20200126T103000
DTEND;TZID=Europe/London:20200126T120000
DTSTAMP:20260422T225305
CREATED:20171124T202415Z
LAST-MODIFIED:20191229T232535Z
UID:789-1580034600-1580040000@www.stmartinsmorden.org.uk
SUMMARY:Enter the King
DESCRIPTION:John 12:12-19\nPrayer ministry and refreshments are available after the service.\nVisitors are welcome.\n\n\n\nShare this Post
URL:https://www.stmartinsmorden.org.uk/event/sunday-morning-service-26th-january-2020/
CATEGORIES:Sunday
END:VEVENT
BEGIN:VEVENT
DTSTART;TZID=Europe/London:20200120T193000
DTEND;TZID=Europe/London:20200120T193000
DTSTAMP:20260422T225305
CREATED:20180307T205423Z
LAST-MODIFIED:20200112T141419Z
UID:1050-1579548600-1579548600@www.stmartinsmorden.org.uk
SUMMARY:Games evening
DESCRIPTION:Games evening is a great opportunity to come together\, relax\, make friends and play games. A selection of card games\, board games and table top games will be available. If you have a favourite game\, then bring it along. \nRefreshments will be provided. \nAll are welcome. \n\n\n\nShare this Post
URL:https://www.stmartinsmorden.org.uk/event/games-evening-january-2020/
CATEGORIES:Additional event
END:VEVENT
BEGIN:VEVENT
DTSTART;TZID=Europe/London:20200119T130000
DTEND;TZID=Europe/London:20200119T130000
DTSTAMP:20260422T225305
CREATED:20190226T200616Z
LAST-MODIFIED:20200105T124615Z
UID:1623-1579438800-1579438800@www.stmartinsmorden.org.uk
SUMMARY:Life Explored (including lunch)
DESCRIPTION:Life Explored is an informal 4-week course for anyone who wants to find true contentment and happiness in life. \n\n\n\n\nShare this Post
URL:https://www.stmartinsmorden.org.uk/event/life-explored-19-jan-2020/
CATEGORIES:Life Explored
END:VEVENT
BEGIN:VEVENT
DTSTART;TZID=Europe/London:20200119T103000
DTEND;TZID=Europe/London:20200119T120000
DTSTAMP:20260422T225305
CREATED:20171124T202420Z
LAST-MODIFIED:20191229T232323Z
UID:790-1579429800-1579435200@www.stmartinsmorden.org.uk
SUMMARY:Preparing to die
DESCRIPTION:John 12:1-11\nPrayer ministry and refreshments are available after the service.\nVisitors are welcome.\n\n\n\nShare this Post
URL:https://www.stmartinsmorden.org.uk/event/sunday-morning-service-19th-january-2020/
CATEGORIES:Sunday
END:VEVENT
BEGIN:VEVENT
DTSTART;TZID=Europe/London:20200112T130000
DTEND;TZID=Europe/London:20200112T130000
DTSTAMP:20260422T225305
CREATED:20190106T175042Z
LAST-MODIFIED:20200105T124621Z
UID:1507-1578834000-1578834000@www.stmartinsmorden.org.uk
SUMMARY:Life Explored (including lunch)
DESCRIPTION:Life Explored is an informal 4-week course for anyone who wants to find true contentment and happiness in life. \n\n\n\n\nShare this Post
URL:https://www.stmartinsmorden.org.uk/event/life-explored-12-jan-2020/
CATEGORIES:Life Explored
END:VEVENT
BEGIN:VEVENT
DTSTART;TZID=Europe/London:20200112T103000
DTEND;TZID=Europe/London:20200112T120000
DTSTAMP:20260422T225305
CREATED:20171124T202426Z
LAST-MODIFIED:20191229T232431Z
UID:791-1578825000-1578830400@www.stmartinsmorden.org.uk
SUMMARY:The one for the many
DESCRIPTION:John 11:45-57\nPrayer ministry and refreshments are available after the service.\nVisitors are welcome.\n\n\n\nShare this Post
URL:https://www.stmartinsmorden.org.uk/event/sunday-morning-service-12th-january-2020/
CATEGORIES:Sunday
END:VEVENT
BEGIN:VEVENT
DTSTART;TZID=Europe/London:20200105T103000
DTEND;TZID=Europe/London:20200105T120000
DTSTAMP:20260422T225305
CREATED:20171124T202429Z
LAST-MODIFIED:20191229T214443Z
UID:792-1578220200-1578225600@www.stmartinsmorden.org.uk
SUMMARY:Waking the dead
DESCRIPTION:John 11:1-44\nPrayer ministry and refreshments are available after the service.\nVisitors are welcome.\n\n\n\nShare this Post
URL:https://www.stmartinsmorden.org.uk/event/sunday-morning-service-5th-january-2020/
CATEGORIES:Sunday
END:VEVENT
BEGIN:VEVENT
DTSTART;TZID=Europe/London:20191229T103000
DTEND;TZID=Europe/London:20191229T120000
DTSTAMP:20260422T225305
CREATED:20171112T204841Z
LAST-MODIFIED:20191009T205251Z
UID:711-1577615400-1577620800@www.stmartinsmorden.org.uk
SUMMARY:God’s amazing gift
DESCRIPTION:Prayer ministry and refreshments are available after the service.\nVisitors are welcome.\n\n\n\nShare this Post
URL:https://www.stmartinsmorden.org.uk/event/sunday-morning-service-29th-december-2019/
CATEGORIES:Sunday
END:VEVENT
BEGIN:VEVENT
DTSTART;TZID=Europe/London:20191225T103000
DTEND;TZID=Europe/London:20191225T103000
DTSTAMP:20260422T225305
CREATED:20171112T202824Z
LAST-MODIFIED:20191009T211758Z
UID:699-1577269800-1577269800@www.stmartinsmorden.org.uk
SUMMARY:Family Christmas celebration
DESCRIPTION:Come and celebrate Jesus’ birthday\, bring a toy to show and join us in singing God’s praise.\nVisitors are welcome.\n\n\n\nShare this Post
URL:https://www.stmartinsmorden.org.uk/event/christmas-day-2019/
CATEGORIES:Additional service,Christmas
ATTACH;FMTTYPE=image/png:https://www.stmartinsmorden.org.uk/wp-content/uploads/2016/10/christmas-day-01.png
END:VEVENT
BEGIN:VEVENT
DTSTART;TZID=Europe/London:20191210T190000
DTEND;TZID=Europe/London:20191210T190000
DTSTAMP:20260422T225305
CREATED:20171127T191051Z
LAST-MODIFIED:20191009T210232Z
UID:831-1576004400-1576004400@www.stmartinsmorden.org.uk
SUMMARY:Scout Christingle
DESCRIPTION:Share this Post
URL:https://www.stmartinsmorden.org.uk/event/scout-christingle-2019/
CATEGORIES:Additional service
ATTACH;FMTTYPE=image/png:https://www.stmartinsmorden.org.uk/wp-content/uploads/2016/10/christingle-01.png
END:VEVENT
BEGIN:VEVENT
DTSTART;TZID=Europe/London:20191208T103000
DTEND;TZID=Europe/London:20191208T120000
DTSTAMP:20260422T225305
CREATED:20171112T204745Z
LAST-MODIFIED:20191009T204326Z
UID:712-1575801000-1575806400@www.stmartinsmorden.org.uk
SUMMARY:How should I live in the light of Jesus’ return?
DESCRIPTION:Rom 13:8-14\nPrayer ministry and refreshments are available after the service.\nVisitors are welcome.\n\n\n\nShare this Post
URL:https://www.stmartinsmorden.org.uk/event/sunday-morning-service-8th-december-2019/
CATEGORIES:Sunday
END:VEVENT
BEGIN:VEVENT
DTSTART;TZID=Europe/London:20191201T103000
DTEND;TZID=Europe/London:20191201T120000
DTSTAMP:20260422T225305
CREATED:20171112T204816Z
LAST-MODIFIED:20191009T204141Z
UID:710-1575196200-1575201600@www.stmartinsmorden.org.uk
SUMMARY:When will Jesus return?
DESCRIPTION:Mark 13\nPrayer ministry and refreshments are available after the service.\nVisitors are welcome.\n\n\n\nShare this Post
URL:https://www.stmartinsmorden.org.uk/event/sunday-morning-service-1st-december-2019/
CATEGORIES:Sunday
END:VEVENT
BEGIN:VEVENT
DTSTART;TZID=Europe/London:20191123T103000
DTEND;TZID=Europe/London:20191123T143000
DTSTAMP:20260422T225305
CREATED:20170910T133539Z
LAST-MODIFIED:20191117T192705Z
UID:670-1574505000-1574519400@www.stmartinsmorden.org.uk
SUMMARY:Missionary gift day craft fair
DESCRIPTION:This is a great opportunity to buy Christmas gifts. \nThere will be crafts\, new and good quality items\, cakes and refreshments. \nAll money raised supports missionary work abroad. \nAdmission free. \n  \nShare this Post
URL:https://www.stmartinsmorden.org.uk/event/missionary-gift-day-craft-fair-2019/
CATEGORIES:Fair
ATTACH;FMTTYPE=image/png:https://www.stmartinsmorden.org.uk/wp-content/uploads/2016/10/gift-day-flyer_web-01.png
END:VEVENT
BEGIN:VEVENT
DTSTART;TZID=Europe/London:20191004T093000
DTEND;TZID=Europe/London:20191004T110000
DTSTAMP:20260422T225305
CREATED:20180930T145016Z
LAST-MODIFIED:20191001T201232Z
UID:1384-1570181400-1570186800@www.stmartinsmorden.org.uk
SUMMARY:Macmillan coffee morning
DESCRIPTION:Our weekly Coffee ‘n’ Chat is hosting a Macmillan coffee morning. \nEveryone is welcome to join us! \n  \n  \nShare this Post
URL:https://www.stmartinsmorden.org.uk/event/macmillan-coffee-morning-2019/
CATEGORIES:Additional event
END:VEVENT
BEGIN:VEVENT
DTSTART;TZID=Europe/London:20190928T170000
DTEND;TZID=Europe/London:20190928T193000
DTSTAMP:20260422T225305
CREATED:20180812T213526Z
LAST-MODIFIED:20190917T220626Z
UID:1331-1569690000-1569699000@www.stmartinsmorden.org.uk
SUMMARY:Harvest supper and quiz
DESCRIPTION:Food and fun for all ages! \nForm a team of 4-10 people for a light hearted quiz. \nTickets cost £5.00 for adults.  Under 16s go free. \nThis is an opportunity to invite friends\, relatives and neighbours. \nShare this Post
URL:https://www.stmartinsmorden.org.uk/event/harvest-weekend-2019/
CATEGORIES:Event
END:VEVENT
BEGIN:VEVENT
DTSTART;VALUE=DATE:20190907
DTEND;VALUE=DATE:20190908
DTSTAMP:20260422T225305
CREATED:20190623T191525Z
LAST-MODIFIED:20190812T194453Z
UID:1754-1567814400-1567900799@www.stmartinsmorden.org.uk
SUMMARY:Car trip to Hever Castle
DESCRIPTION:Our annual car outing this year is to Hever Castle\, the childhood home of Anne Boleyn.  Set in 125 acres of glorious grounds with award-winning gardens\, playground\, water maze and yew maze.  There is plenty to do and see (including a craft fair on the day we are there). \nThe price is £13.40 per adult\, £12.60 per senior\, £10.50 per student\, £5.15 per child (5-15). \n  \n\n\n\nShare this Post
URL:https://www.stmartinsmorden.org.uk/event/car-trip-to-hever-castle-2019/
LOCATION:Hever Castle\, TN8 7NG\, United Kingdom
CATEGORIES:Additional event
ATTACH;FMTTYPE=image/png:https://www.stmartinsmorden.org.uk/wp-content/uploads/2018/07/vintage-35120_640.png
END:VEVENT
BEGIN:VEVENT
DTSTART;TZID=Europe/London:20190824T150000
DTEND;TZID=Europe/London:20190824T150000
DTSTAMP:20260422T225305
CREATED:20190705T234534Z
LAST-MODIFIED:20190812T195111Z
UID:1761-1566658800-1566658800@www.stmartinsmorden.org.uk
SUMMARY:Concert and afternoon tea
DESCRIPTION:Paul\, our organist\, is giving a concert of popular light music.  He will be joined by Anna who will be singing a few songs. \nWhy not invite your family and friends? \nThe concert will be followed by afternoon tea.  To help us plan the catering\, please add your name to the sign up sheet at the back of the church. \nEntrance is free\, but we will be taking a voluntary collection for church repairs. \n\n\n\nShare this Post
URL:https://www.stmartinsmorden.org.uk/event/paul-concert-2019/
CATEGORIES:Additional event
END:VEVENT
BEGIN:VEVENT
DTSTART;TZID=Europe/London:20190620T194500
DTEND;TZID=Europe/London:20190620T194500
DTSTAMP:20260422T225305
CREATED:20181104T132134Z
LAST-MODIFIED:20190526T154828Z
UID:1471-1561059900-1561059900@www.stmartinsmorden.org.uk
SUMMARY:Mahabba meeting @ St. George's church
DESCRIPTION:“Mahabba” means “love” in Arabic. \nThis is a parish-wide meeting where we can learn more about our Muslim neighbours and have an opportunity to pray for them.
URL:https://www.stmartinsmorden.org.uk/event/mahabba-meeting-jun-2019/
LOCATION:St George’s Church\, 98 Central Road\, SM4 5RJ\, United Kingdom
CATEGORIES:Additional event
END:VEVENT
BEGIN:VEVENT
DTSTART;TZID=Europe/London:20190615T100000
DTEND;TZID=Europe/London:20190615T140000
DTSTAMP:20260422T225305
CREATED:20180429T160124Z
LAST-MODIFIED:20190526T154505Z
UID:1140-1560592800-1560607200@www.stmartinsmorden.org.uk
SUMMARY:Community fun day
DESCRIPTION:Activities (including bouncy castle and face painting)\, refreshments and BBQ.\n\nAll free!\n\nEveryone is welcome!
URL:https://www.stmartinsmorden.org.uk/event/community-fun-day-2019/
CATEGORIES:Additional event
END:VEVENT
BEGIN:VEVENT
DTSTART;VALUE=DATE:20190529
DTEND;VALUE=DATE:20190601
DTSTAMP:20260422T225305
CREATED:20190406T150908Z
LAST-MODIFIED:20190427T095722Z
UID:1703-1559088000-1559347199@www.stmartinsmorden.org.uk
SUMMARY:Summer Holiday Club: Lights! Camera! Action! @9:30-12:30
DESCRIPTION:Our summer Holiday Club takes place at the end of May this year. It’s suitable for children aged 4-11 and it promises to be a great time for children to get together\, have fun\, meet new friends\, play games and listen to Bible stories.  Children registered before 1st May are guaranteed a free t-shirt. \nThe cost is £15 per child (maximum £30 per family). \nSpaces are limited and the absolute deadline for all bookings is Friday 24th May.  So please apply now! \nClick here for downloadable application form. \n\n\n\nShare this Post
URL:https://www.stmartinsmorden.org.uk/event/holiday-club-spring-2019/
CATEGORIES:Children event,Holiday Club
END:VEVENT
END:VCALENDAR