BEGIN:VCALENDAR
VERSION:2.0
PRODID:-//St Martin&#039;s Morden SM4 - ECPv6.15.20//NONSGML v1.0//EN
CALSCALE:GREGORIAN
METHOD:PUBLISH
X-WR-CALNAME:St Martin&#039;s Morden SM4
X-ORIGINAL-URL:https://www.stmartinsmorden.org.uk
X-WR-CALDESC:Events for St Martin&#039;s Morden SM4
REFRESH-INTERVAL;VALUE=DURATION:PT1H
X-Robots-Tag:noindex
X-PUBLISHED-TTL:PT1H
BEGIN:VTIMEZONE
TZID:Europe/London
BEGIN:DAYLIGHT
TZOFFSETFROM:+0000
TZOFFSETTO:+0100
TZNAME:BST
DTSTART:20190331T010000
END:DAYLIGHT
BEGIN:STANDARD
TZOFFSETFROM:+0100
TZOFFSETTO:+0000
TZNAME:GMT
DTSTART:20191027T010000
END:STANDARD
BEGIN:DAYLIGHT
TZOFFSETFROM:+0000
TZOFFSETTO:+0100
TZNAME:BST
DTSTART:20200329T010000
END:DAYLIGHT
BEGIN:STANDARD
TZOFFSETFROM:+0100
TZOFFSETTO:+0000
TZNAME:GMT
DTSTART:20201025T010000
END:STANDARD
BEGIN:DAYLIGHT
TZOFFSETFROM:+0000
TZOFFSETTO:+0100
TZNAME:BST
DTSTART:20210328T010000
END:DAYLIGHT
BEGIN:STANDARD
TZOFFSETFROM:+0100
TZOFFSETTO:+0000
TZNAME:GMT
DTSTART:20211031T010000
END:STANDARD
BEGIN:DAYLIGHT
TZOFFSETFROM:+0000
TZOFFSETTO:+0100
TZNAME:BST
DTSTART:20220327T010000
END:DAYLIGHT
BEGIN:STANDARD
TZOFFSETFROM:+0100
TZOFFSETTO:+0000
TZNAME:GMT
DTSTART:20221030T010000
END:STANDARD
BEGIN:DAYLIGHT
TZOFFSETFROM:+0000
TZOFFSETTO:+0100
TZNAME:BST
DTSTART:20230326T010000
END:DAYLIGHT
BEGIN:STANDARD
TZOFFSETFROM:+0100
TZOFFSETTO:+0000
TZNAME:GMT
DTSTART:20231029T010000
END:STANDARD
BEGIN:DAYLIGHT
TZOFFSETFROM:+0000
TZOFFSETTO:+0100
TZNAME:BST
DTSTART:20240331T010000
END:DAYLIGHT
BEGIN:STANDARD
TZOFFSETFROM:+0100
TZOFFSETTO:+0000
TZNAME:GMT
DTSTART:20241027T010000
END:STANDARD
BEGIN:DAYLIGHT
TZOFFSETFROM:+0000
TZOFFSETTO:+0100
TZNAME:BST
DTSTART:20250330T010000
END:DAYLIGHT
BEGIN:STANDARD
TZOFFSETFROM:+0100
TZOFFSETTO:+0000
TZNAME:GMT
DTSTART:20251026T010000
END:STANDARD
END:VTIMEZONE
BEGIN:VEVENT
DTSTART;TZID=Europe/London:20240214T103000
DTEND;TZID=Europe/London:20240214T200000
DTSTAMP:20260422T022046
CREATED:20210130T230232Z
LAST-MODIFIED:20240130T132358Z
UID:2260-1707906600-1707940800@www.stmartinsmorden.org.uk
SUMMARY:Ash Wednesday Holy Communion service
DESCRIPTION:Our annual Communion service marking the start of Lent.
URL:https://www.stmartinsmorden.org.uk/event/ash-wednesday-2021/
CATEGORIES:Additional service
END:VEVENT
BEGIN:VEVENT
DTSTART;TZID=Europe/London:20231225T103000
DTEND;TZID=Europe/London:20231225T120000
DTSTAMP:20260422T022046
CREATED:20171112T200233Z
LAST-MODIFIED:20231204T205005Z
UID:690-1703500200-1703505600@www.stmartinsmorden.org.uk
SUMMARY:Christmas Day Celebration for all ages
DESCRIPTION:Christmas Day Celebration for all ages.\n\nWhy not bring a present to show?\n\nVisitors are very welcome.\n\n\n\nShare this Post
URL:https://www.stmartinsmorden.org.uk/event/christmas-day-family-celebration-service/
CATEGORIES:Christmas,Sunday,Sunday Christmas
ATTACH;FMTTYPE=image/jpeg:https://www.stmartinsmorden.org.uk/wp-content/uploads/2017/11/singing-18382_640.jpg
END:VEVENT
BEGIN:VEVENT
DTSTART;TZID=Europe/London:20231217T103000
DTEND;TZID=Europe/London:20231217T103000
DTSTAMP:20260422T022046
CREATED:20201121T195311Z
LAST-MODIFIED:20231204T210403Z
UID:2138-1702809000-1702809000@www.stmartinsmorden.org.uk
SUMMARY:Nativity Carols for all ages
DESCRIPTION:This year’s all-age nativity service will be for all ages.\nChildren can come dressed as a Bible character. Costumes available.\n\nClick here for our YouTube channel.\n\n\n\n\n\nShare this Post
URL:https://www.stmartinsmorden.org.uk/event/nativity-service/
CATEGORIES:Christmas,Sunday Christmas
ATTACH;FMTTYPE=image/png:https://www.stmartinsmorden.org.uk/wp-content/uploads/2017/11/reis-magos-1924496_640.png
END:VEVENT
BEGIN:VEVENT
DTSTART;TZID=Europe/London:20231201T193000
DTEND;TZID=Europe/London:20231201T193000
DTSTAMP:20260422T022046
CREATED:20231117T210553Z
LAST-MODIFIED:20231117T210553Z
UID:3184-1701459000-1701459000@www.stmartinsmorden.org.uk
SUMMARY:Christmas Wreath Making
DESCRIPTION:£15 per person \nAll materials provided \nNo experience needed \nRefreshments \nIncludes a short Christian Talk \nBOOKING ESSENTIAL \nTo book your place email mark.davey@morden.church
URL:https://www.stmartinsmorden.org.uk/event/christmas-wreath-making/
LOCATION:St Martin’s Church\, Camborne Road\, Morden\, Surrey\, SM44JN\, United Kingdom
END:VEVENT
BEGIN:VEVENT
DTSTART;TZID=Europe/London:20231029T160000
DTEND;TZID=Europe/London:20231029T180000
DTSTAMP:20260422T022046
CREATED:20231012T142915Z
LAST-MODIFIED:20231016T142349Z
UID:3153-1698595200-1698602400@www.stmartinsmorden.org.uk
SUMMARY:Light Party
DESCRIPTION:Join us on 29 October 4pm-6pm\nfor our free family Light Party\nBible story – Party games – Craft – Children’s tea\n\nCome dressed as a Princess or Superhero\nEmail mrshdavey@gmail.com to book your place
URL:https://www.stmartinsmorden.org.uk/event/light-party/
LOCATION:St Martin’s Church\, Camborne Road\, Morden\, Surrey\, SM44JN\, United Kingdom
CATEGORIES:Children event
END:VEVENT
BEGIN:VEVENT
DTSTART;TZID=Europe/London:20231001T103000
DTEND;TZID=Europe/London:20231001T103000
DTSTAMP:20260422T022046
CREATED:20170729T184817Z
LAST-MODIFIED:20230929T194312Z
UID:534-1696156200-1696156200@www.stmartinsmorden.org.uk
SUMMARY:Harvest service with Holy Communion
DESCRIPTION:Do join us for our Harvest celebrations. \nFor our harvest food collection\, we will be giving to the Wimbledon Foodbank. Below are some of the items especially needed.\nFood: UHT milk; Tinned meat; Tinned fish; Tinned fruit; Sponge/rice puddings; Coffee (small jars) Long-life juice; Pasta sauce; Tinned veg; Tinned meals; Tinned soup; Jam and spreads\nNon-food items: Shower gel; Shampoo/conditioner; Deodorant; Toilet rolls; Washing up liquid. \nIf you wish to donate money to them instead you can do so via this link \nSadly we have had to postpone our Harvest Lunch as the electrical upgrade has one vital task to be completed! \n 
URL:https://www.stmartinsmorden.org.uk/event/5-sep-2021/
CATEGORIES:Harvest,Sunday
END:VEVENT
BEGIN:VEVENT
DTSTART;TZID=Europe/London:20230924T103000
DTEND;TZID=Europe/London:20230924T103000
DTSTAMP:20260422T022046
CREATED:20170909T234715Z
LAST-MODIFIED:20230923T125648Z
UID:658-1695551400-1695551400@www.stmartinsmorden.org.uk
SUMMARY:Joint service at Emmanuel church Stonecot Hill. No service in St Martin's this week.
DESCRIPTION:Due to a delay in completing our electrics update there will be no service in St Martin’s this week. Do join us as we share with our brothers and sisters at Emmanuel. \nWe are expecting the electrics update to be completed in the next few days.
URL:https://www.stmartinsmorden.org.uk/event/26-sept-2021/
CATEGORIES:Sunday
END:VEVENT
BEGIN:VEVENT
DTSTART;TZID=Europe/London:20220521T100000
DTEND;TZID=Europe/London:20220521T130000
DTSTAMP:20260422T022046
CREATED:20180307T205731Z
LAST-MODIFIED:20220520T153304Z
UID:1053-1653127200-1653138000@www.stmartinsmorden.org.uk
SUMMARY:Plant and cake sale
DESCRIPTION:Our annual plant and cake sale returns at last. \nCome along and see the plants and delicious cakes that we will be selling. \nAll proceeds go to St. Raphael’s Hospice. \nPlant&Cake 22\n\n\nShare this Post
URL:https://www.stmartinsmorden.org.uk/event/plant-cake-sale-2019/
CATEGORIES:Additional event,Fair
ATTACH;FMTTYPE=image/jpeg:https://www.stmartinsmorden.org.uk/wp-content/uploads/2015/05/1395880_24015480-2.jpg
END:VEVENT
BEGIN:VEVENT
DTSTART;TZID=Europe/London:20220416T100000
DTEND;TZID=Europe/London:20220416T130000
DTSTAMP:20260422T022046
CREATED:20220404T183448Z
LAST-MODIFIED:20220404T183715Z
UID:2761-1650103200-1650114000@www.stmartinsmorden.org.uk
SUMMARY:Family Easter Egg Hunt on Easter Saturday
DESCRIPTION:Family Easter Egg Hunt on Easter Saturday\nWe are delighted to run our annual Easter Egg Hunt for the first time since the beginning of the pandemic! \nEgg Hunt\, craft and refreshments! \nThis event is free and is suitable for all members of the family! To book your place\, please email helenadavey@gmail.com. Please note that booking is a requirement so that we know numbers.
URL:https://www.stmartinsmorden.org.uk/event/family-easter-egg-hunt-on-easter-saturday/
END:VEVENT
BEGIN:VEVENT
DTSTART;TZID=Europe/London:20220415T140000
DTEND;TZID=Europe/London:20220415T140000
DTSTAMP:20260422T022046
CREATED:20170828T141916Z
LAST-MODIFIED:20220328T191821Z
UID:613-1650031200-1650031200@www.stmartinsmorden.org.uk
SUMMARY:Good Friday service in church (and online)
DESCRIPTION:Good Friday Service\n‘An Hour at the Cross’\n  \nPlease click here for details of our return to church or here for our online services on our YouTube channel.
URL:https://www.stmartinsmorden.org.uk/event/19-sept-2021/
CATEGORIES:Sunday
END:VEVENT
BEGIN:VEVENT
DTSTART;TZID=Europe/London:20220414T200000
DTEND;TZID=Europe/London:20220414T200000
DTSTAMP:20260422T022046
CREATED:20180107T142931Z
LAST-MODIFIED:20220406T174243Z
UID:901-1649966400-1649966400@www.stmartinsmorden.org.uk
SUMMARY:Maundy Thursday Communion Service - in church and livestreamed
DESCRIPTION:This year’s Maundy Thursday Communion Service will be in St Martin’s. We will be joined by our friends from Morden Park Baptist Church. The service will also be livestreamed.
URL:https://www.stmartinsmorden.org.uk/event/maundy-thursday-2022/
CATEGORIES:Additional service,Holy Week
END:VEVENT
BEGIN:VEVENT
DTSTART;TZID=Europe/London:20211102T195000
DTEND;TZID=Europe/London:20211102T210000
DTSTAMP:20260422T022046
CREATED:20170910T133120Z
LAST-MODIFIED:20211030T152414Z
UID:666-1635882600-1635886800@www.stmartinsmorden.org.uk
SUMMARY:Church family prayer meeting in church
DESCRIPTION:Our most important meeting of the month is our prayer meeting which takes place on the first Tuesday of the month. This is a time for members to praise God for who He is and what He has done for us in Jesus Christ\, as well as to thank Him for answered prayer. We also pray for church matters\, our mission and ministry as well as for the wider community.
URL:https://www.stmartinsmorden.org.uk/event/church-family-prayer-meeting-nov-2021/
CATEGORIES:Prayer meeting
END:VEVENT
BEGIN:VEVENT
DTSTART;VALUE=DATE:20210822
DTEND;VALUE=DATE:20210823
DTSTAMP:20260422T022046
CREATED:20210530T114445Z
LAST-MODIFIED:20210822T104456Z
UID:2429-1629590400-1629676799@www.stmartinsmorden.org.uk
SUMMARY:Picnic in the church car park @ 12:00
DESCRIPTION:Throughout the Summer we are planning to have some picnics on Cannon Hill Common.  These\, we hope\, will be a great way for us to meet together for encouragement\, friendship and fun.
URL:https://www.stmartinsmorden.org.uk/event/picnic-in-the-park-august-2021/
CATEGORIES:Additional event
END:VEVENT
BEGIN:VEVENT
DTSTART;TZID=Europe/London:20210803T195000
DTEND;TZID=Europe/London:20210803T210000
DTSTAMP:20260422T022046
CREATED:20170730T133034Z
LAST-MODIFIED:20210613T134312Z
UID:592-1628020200-1628024400@www.stmartinsmorden.org.uk
SUMMARY:Church family prayer meeting (via Zoom)
DESCRIPTION:Our most important meeting of the month is our prayer meeting which takes place on the first Tuesday of the month. This is a time for members to praise God for who He is and what He has done for us in Jesus Christ\, as well as to thank Him for answered prayer. We also pray for church matters\, our mission and ministry as well as for the wider community.
URL:https://www.stmartinsmorden.org.uk/event/church-family-prayer-meeting-august-2021/
CATEGORIES:Prayer meeting
END:VEVENT
BEGIN:VEVENT
DTSTART;TZID=Europe/London:20210706T195000
DTEND;TZID=Europe/London:20210706T210000
DTSTAMP:20260422T022046
CREATED:20171124T203225Z
LAST-MODIFIED:20210516T115318Z
UID:806-1625601000-1625605200@www.stmartinsmorden.org.uk
SUMMARY:Church family prayer meeting (via Zoom)
DESCRIPTION:Our most important meeting of the month is our prayer meeting which takes place on the first Tuesday of the month. This is a time for members to praise God for who He is and what He has done for us in Jesus Christ\, as well as to thank Him for answered prayer. We also pray for church matters\, our mission and ministry as well as for the wider community.
URL:https://www.stmartinsmorden.org.uk/event/church-family-prayer-meeting-july-2021/
CATEGORIES:Prayer meeting
END:VEVENT
BEGIN:VEVENT
DTSTART;TZID=Europe/London:20210601T195000
DTEND;TZID=Europe/London:20210601T210000
DTSTAMP:20260422T022046
CREATED:20210416T205122Z
LAST-MODIFIED:20210416T205122Z
UID:2388-1622577000-1622581200@www.stmartinsmorden.org.uk
SUMMARY:Church family prayer meeting (via Zoom)
DESCRIPTION:Our most important meeting of the month is our prayer meeting which takes place on the first Tuesday of the month. This is a time for members to praise God for who He is and what He has done for us in Jesus Christ\, as well as to thank Him for answered prayer. We also pray for church matters\, our mission and ministry as well as for the wider community.
URL:https://www.stmartinsmorden.org.uk/event/church-family-prayer-meeting-june-2021/
CATEGORIES:Prayer meeting
END:VEVENT
BEGIN:VEVENT
DTSTART;TZID=Europe/London:20210504T195000
DTEND;TZID=Europe/London:20210504T210000
DTSTAMP:20260422T022046
CREATED:20171124T203212Z
LAST-MODIFIED:20210325T193138Z
UID:805-1620157800-1620162000@www.stmartinsmorden.org.uk
SUMMARY:Church family prayer meeting (via Zoom)
DESCRIPTION:Our most important meeting of the month is our prayer meeting which takes place on the first Tuesday of the month. This is a time for members to praise God for who He is and what He has done for us in Jesus Christ\, as well as to thank Him for answered prayer. We also pray for church matters\, our mission and ministry as well as for the wider community.
URL:https://www.stmartinsmorden.org.uk/event/church-family-prayer-meeting-may-2021/
CATEGORIES:Prayer meeting
END:VEVENT
BEGIN:VEVENT
DTSTART;TZID=Europe/London:20210406T195000
DTEND;TZID=Europe/London:20210406T210000
DTSTAMP:20260422T022046
CREATED:20210130T232853Z
LAST-MODIFIED:20210130T232853Z
UID:2265-1617738600-1617742800@www.stmartinsmorden.org.uk
SUMMARY:Church family prayer meeting (via Zoom)
DESCRIPTION:Our most important meeting of the month is our prayer meeting which takes place on the first Tuesday of the month. This is a time for members to praise God for who He is and what He has done for us in Jesus Christ\, as well as to thank Him for answered prayer. We also pray for church matters\, our mission and ministry as well as for the wider community.
URL:https://www.stmartinsmorden.org.uk/event/church-family-prayer-meeting-via-zoom-apr-2021/
CATEGORIES:Prayer meeting
END:VEVENT
BEGIN:VEVENT
DTSTART;TZID=Europe/London:20210404T103000
DTEND;TZID=Europe/London:20210404T103000
DTSTAMP:20260422T022046
CREATED:20170828T142039Z
LAST-MODIFIED:20210331T222239Z
UID:610-1617532200-1617532200@www.stmartinsmorden.org.uk
SUMMARY:Easter Sunday in church (and online)
DESCRIPTION:Please click here for details of our return to church or here for our online services on our YouTube channel.
URL:https://www.stmartinsmorden.org.uk/event/easter-sunday-2021/
CATEGORIES:Holy Week,Sunday
ATTACH;FMTTYPE=image/jpeg:https://www.stmartinsmorden.org.uk/wp-content/uploads/2021/03/Luke-24-5-6-e1617229295151.jpg
END:VEVENT
BEGIN:VEVENT
DTSTART;VALUE=DATE:20210403
DTEND;VALUE=DATE:20210405
DTSTAMP:20260422T022046
CREATED:20180306T221107Z
LAST-MODIFIED:20210321T203612Z
UID:1026-1617408000-1617580799@www.stmartinsmorden.org.uk
SUMMARY:Easter trail
DESCRIPTION:Find the 9 Easter posters and letters in the local area. Unscramble the word and claim a free prize. Great fun for all the family! Contact Helena\, to book your place and get the map.
URL:https://www.stmartinsmorden.org.uk/event/easter-trail-2021/
CATEGORIES:Children event,Holy Week
END:VEVENT
BEGIN:VEVENT
DTSTART;TZID=Europe/London:20210327T194500
DTEND;TZID=Europe/London:20210327T194500
DTSTAMP:20260422T022046
CREATED:20171227T140327Z
LAST-MODIFIED:20210307T205055Z
UID:893-1616874300-1616874300@www.stmartinsmorden.org.uk
SUMMARY:St Martin’s online quiz
DESCRIPTION:A great opportunity to test your general knowledge and invite your non-Christian friends and family! There will be four themed rounds and a short testimony from a member of the St Martin’s church family in between. We are looking for people to form quiz teams – you can team up from multiple households as it will be a Zoom quiz involving breakout groups. If you fancy a bit of fun\, friendship and hearing of God’s work in someone’s life\, please do join us. See the takeaway for how to book your team in. \n  \nShare this Post
URL:https://www.stmartinsmorden.org.uk/event/quiz-night-march-2021/
CATEGORIES:Additional event
END:VEVENT
BEGIN:VEVENT
DTSTART;TZID=Europe/London:20210305T190000
DTEND;TZID=Europe/London:20210305T190000
DTSTAMP:20260422T022046
CREATED:20210220T221332Z
LAST-MODIFIED:20210220T221332Z
UID:2288-1614970800-1614970800@www.stmartinsmorden.org.uk
SUMMARY:World day of prayer (via Zoom)
DESCRIPTION:The service this year is written by the women of Vanuatu and there are zoom services from Wallington Baptist Church at 2pm and 7pm.  You need to book a place in advance for your chosen service. \nThose without Internet access will be reading through the service individually in their own homes at 10.45am as an act of unity. \nSt. Martin’s takeaway has details of how to book your place and how to get a booklet for the service. \nPlease do keep the wave of prayer going round the world on that day. The service is inclusive for all. Any donations to be made individually this year.
URL:https://www.stmartinsmorden.org.uk/event/world-day-of-prayer-2021-7pm/
CATEGORIES:Additional service
END:VEVENT
BEGIN:VEVENT
DTSTART;TZID=Europe/London:20210305T140000
DTEND;TZID=Europe/London:20210305T140000
DTSTAMP:20260422T022046
CREATED:20210220T221348Z
LAST-MODIFIED:20210220T221348Z
UID:2287-1614952800-1614952800@www.stmartinsmorden.org.uk
SUMMARY:World day of prayer (via Zoom)
DESCRIPTION:The service this year is written by the women of Vanuatu and there are zoom services from Wallington Baptist Church at 2pm and 7pm.  You need to book a place in advance for your chosen service. \nThose without Internet access will be reading through the service individually in their own homes at 10.45am as an act of unity. \nSt. Martin’s takeaway has details of how to book your place and how to get a booklet for the service. \nPlease do keep the wave of prayer going round the world on that day. The service is inclusive for all. Any donations to be made individually this year.
URL:https://www.stmartinsmorden.org.uk/event/world-day-of-prayer-2021-2pm/
CATEGORIES:Additional service
END:VEVENT
BEGIN:VEVENT
DTSTART;TZID=Europe/London:20210202T195000
DTEND;TZID=Europe/London:20210202T210000
DTSTAMP:20260422T022046
CREATED:20201106T230018Z
LAST-MODIFIED:20201106T230018Z
UID:2095-1612295400-1612299600@www.stmartinsmorden.org.uk
SUMMARY:Church family prayer meeting (via Zoom)
DESCRIPTION:Our most important meeting of the month is our prayer meeting which takes place on the first Tuesday of the month. This is a time for members to praise God for who He is and what He has done for us in Jesus Christ\, as well as to thank Him for answered prayer. We also pray for church matters\, our mission and ministry as well as for the wider community.
URL:https://www.stmartinsmorden.org.uk/event/church-family-prayer-meeting-via-zoom-feb-2021/
CATEGORIES:Prayer meeting
END:VEVENT
BEGIN:VEVENT
DTSTART;TZID=Europe/London:20210105T195000
DTEND;TZID=Europe/London:20210105T210000
DTSTAMP:20260422T022046
CREATED:20201106T230014Z
LAST-MODIFIED:20201106T230014Z
UID:2094-1609876200-1609880400@www.stmartinsmorden.org.uk
SUMMARY:Church family prayer meeting (via Zoom)
DESCRIPTION:Our most important meeting of the month is our prayer meeting which takes place on the first Tuesday of the month. This is a time for members to praise God for who He is and what He has done for us in Jesus Christ\, as well as to thank Him for answered prayer. We also pray for church matters\, our mission and ministry as well as for the wider community.
URL:https://www.stmartinsmorden.org.uk/event/church-family-prayer-meeting-via-zoom-jan-2021/
CATEGORIES:Prayer meeting
END:VEVENT
BEGIN:VEVENT
DTSTART;TZID=Europe/London:20201224T160000
DTEND;TZID=Europe/London:20201224T160000
DTSTAMP:20260422T022046
CREATED:20201121T202645Z
LAST-MODIFIED:20201205T205528Z
UID:2137-1608825600-1608825600@www.stmartinsmorden.org.uk
SUMMARY:Christmas Eve Service (in church and online)
DESCRIPTION:This year’s all-age Christmas Eve service will be in church and online.\n\nPlease click here for details of our return to church or here for our online services on our YouTube channel.\n\n\n\nShare this Post
URL:https://www.stmartinsmorden.org.uk/event/christmas-eve-service-2020/
CATEGORIES:Christmas
ATTACH;FMTTYPE=image/png:https://www.stmartinsmorden.org.uk/wp-content/uploads/2020/11/animal-160808_640.png
END:VEVENT
BEGIN:VEVENT
DTSTART;TZID=Europe/London:20201220T100000
DTEND;TZID=Europe/London:20201220T150000
DTSTAMP:20260422T022046
CREATED:20201218T210359Z
LAST-MODIFIED:20201218T210359Z
UID:2223-1608458400-1608476400@www.stmartinsmorden.org.uk
SUMMARY:Nativity Adventure Trail
DESCRIPTION:There will be 7 Nativity Characters to find around the streets of St Martin’s; a word to unscramble and a free prize to win. To take part\, people will need to book in.\n\nEmail mrshdavey@gmail.com for details.\n\n\n\n\n\nShare this Post
URL:https://www.stmartinsmorden.org.uk/event/nativity-adventure-trail/
CATEGORIES:Children event,Christmas
END:VEVENT
BEGIN:VEVENT
DTSTART;TZID=Europe/London:20201219T100000
DTEND;TZID=Europe/London:20201219T150000
DTSTAMP:20260422T022046
CREATED:20201206T125241Z
LAST-MODIFIED:20201218T210355Z
UID:2207-1608372000-1608390000@www.stmartinsmorden.org.uk
SUMMARY:Nativity Adventure Trail
DESCRIPTION:There will be 7 Nativity Characters to find around the streets of St Martin’s; a word to unscramble and a free prize to win. To take part\, people will need to book in.\n\nEmail mrshdavey@gmail.com for details.\n\n\n\n\n\nShare this Post
URL:https://www.stmartinsmorden.org.uk/event/nativity-adventure-trail-1/
CATEGORIES:Children event,Christmas
END:VEVENT
BEGIN:VEVENT
DTSTART;TZID=Europe/London:20201114T194500
DTEND;TZID=Europe/London:20201114T194500
DTSTAMP:20260422T022046
CREATED:20201107T182411Z
LAST-MODIFIED:20201107T183652Z
UID:2113-1605383100-1605383100@www.stmartinsmorden.org.uk
SUMMARY:Tearfund Big Quiz Night (via Zoom)
DESCRIPTION:Bored? Need some fun? Want to test your general knowledge? Then join us for the Tearfund Big Quiz night.  The quiz is provided by Tearfund and is fun for all ages. During the evening there will be an opportunity to hear about the work of Tearfund and donate money to them if you’d like. The quiz is roughly 60 minutes with a short video halfway through promoting the work of Tearfund via a JustGiving page. Do think about inviting family and friends along if you wish to.  \nYou can find the Zoom details in the church takeaway. \nYou can find out about Tearfund by clicking here: https://www.tearfund.org/ \nShare this Post
URL:https://www.stmartinsmorden.org.uk/event/tearfund-big-quiz-night-2020/
CATEGORIES:Additional event
END:VEVENT
BEGIN:VEVENT
DTSTART;TZID=Europe/London:20200813T194500
DTEND;TZID=Europe/London:20200813T194500
DTSTAMP:20260422T022046
CREATED:20200707T202452Z
LAST-MODIFIED:20200707T203332Z
UID:2019-1597347900-1597347900@www.stmartinsmorden.org.uk
SUMMARY:Christianity Explored (via Zoom)
DESCRIPTION:The Christianity Explored course gives you time and space to think through who Jesus is and why it matters. \nThis course runs from 9th July to 13th August and gives you the chance to ask questions and hear something about Christianity. \nYou won’t be asked to read or pray aloud\, and you don’t need any previous experience or knowledge. \nContact us for more information or to sign up.
URL:https://www.stmartinsmorden.org.uk/event/christianity-explored-week-6/
CATEGORIES:Christianity Explored
ATTACH;FMTTYPE=image/jpeg:https://www.stmartinsmorden.org.uk/wp-content/uploads/2015/05/CE-logo.jpg
END:VEVENT
END:VCALENDAR