BEGIN:VCALENDAR
VERSION:2.0
PRODID:-//St Martin&#039;s Morden SM4 - ECPv6.15.20//NONSGML v1.0//EN
CALSCALE:GREGORIAN
METHOD:PUBLISH
X-WR-CALNAME:St Martin&#039;s Morden SM4
X-ORIGINAL-URL:https://www.stmartinsmorden.org.uk
X-WR-CALDESC:Events for St Martin&#039;s Morden SM4
REFRESH-INTERVAL;VALUE=DURATION:PT1H
X-Robots-Tag:noindex
X-PUBLISHED-TTL:PT1H
BEGIN:VTIMEZONE
TZID:Europe/London
BEGIN:DAYLIGHT
TZOFFSETFROM:+0000
TZOFFSETTO:+0100
TZNAME:BST
DTSTART:20150329T010000
END:DAYLIGHT
BEGIN:STANDARD
TZOFFSETFROM:+0100
TZOFFSETTO:+0000
TZNAME:GMT
DTSTART:20151025T010000
END:STANDARD
BEGIN:DAYLIGHT
TZOFFSETFROM:+0000
TZOFFSETTO:+0100
TZNAME:BST
DTSTART:20160327T010000
END:DAYLIGHT
BEGIN:STANDARD
TZOFFSETFROM:+0100
TZOFFSETTO:+0000
TZNAME:GMT
DTSTART:20161030T010000
END:STANDARD
BEGIN:DAYLIGHT
TZOFFSETFROM:+0000
TZOFFSETTO:+0100
TZNAME:BST
DTSTART:20170326T010000
END:DAYLIGHT
BEGIN:STANDARD
TZOFFSETFROM:+0100
TZOFFSETTO:+0000
TZNAME:GMT
DTSTART:20171029T010000
END:STANDARD
BEGIN:DAYLIGHT
TZOFFSETFROM:+0000
TZOFFSETTO:+0100
TZNAME:BST
DTSTART:20180325T010000
END:DAYLIGHT
BEGIN:STANDARD
TZOFFSETFROM:+0100
TZOFFSETTO:+0000
TZNAME:GMT
DTSTART:20181028T010000
END:STANDARD
BEGIN:DAYLIGHT
TZOFFSETFROM:+0000
TZOFFSETTO:+0100
TZNAME:BST
DTSTART:20190331T010000
END:DAYLIGHT
BEGIN:STANDARD
TZOFFSETFROM:+0100
TZOFFSETTO:+0000
TZNAME:GMT
DTSTART:20191027T010000
END:STANDARD
BEGIN:DAYLIGHT
TZOFFSETFROM:+0000
TZOFFSETTO:+0100
TZNAME:BST
DTSTART:20200329T010000
END:DAYLIGHT
BEGIN:STANDARD
TZOFFSETFROM:+0100
TZOFFSETTO:+0000
TZNAME:GMT
DTSTART:20201025T010000
END:STANDARD
END:VTIMEZONE
BEGIN:VEVENT
DTSTART;TZID=Europe/London:20191208T103000
DTEND;TZID=Europe/London:20191208T120000
DTSTAMP:20260423T030252
CREATED:20171112T204745Z
LAST-MODIFIED:20191009T204326Z
UID:712-1575801000-1575806400@www.stmartinsmorden.org.uk
SUMMARY:How should I live in the light of Jesus’ return?
DESCRIPTION:Rom 13:8-14\nPrayer ministry and refreshments are available after the service.\nVisitors are welcome.\n\n\n\nShare this Post
URL:https://www.stmartinsmorden.org.uk/event/sunday-morning-service-8th-december-2019/
CATEGORIES:Sunday
END:VEVENT
BEGIN:VEVENT
DTSTART;TZID=Europe/London:20191201T103000
DTEND;TZID=Europe/London:20191201T120000
DTSTAMP:20260423T030252
CREATED:20171112T204816Z
LAST-MODIFIED:20191009T204141Z
UID:710-1575196200-1575201600@www.stmartinsmorden.org.uk
SUMMARY:When will Jesus return?
DESCRIPTION:Mark 13\nPrayer ministry and refreshments are available after the service.\nVisitors are welcome.\n\n\n\nShare this Post
URL:https://www.stmartinsmorden.org.uk/event/sunday-morning-service-1st-december-2019/
CATEGORIES:Sunday
END:VEVENT
BEGIN:VEVENT
DTSTART;TZID=Europe/London:20191123T103000
DTEND;TZID=Europe/London:20191123T143000
DTSTAMP:20260423T030252
CREATED:20170910T133539Z
LAST-MODIFIED:20191117T192705Z
UID:670-1574505000-1574519400@www.stmartinsmorden.org.uk
SUMMARY:Missionary gift day craft fair
DESCRIPTION:This is a great opportunity to buy Christmas gifts. \nThere will be crafts\, new and good quality items\, cakes and refreshments. \nAll money raised supports missionary work abroad. \nAdmission free. \n  \nShare this Post
URL:https://www.stmartinsmorden.org.uk/event/missionary-gift-day-craft-fair-2019/
CATEGORIES:Fair
ATTACH;FMTTYPE=image/png:https://www.stmartinsmorden.org.uk/wp-content/uploads/2016/10/gift-day-flyer_web-01.png
END:VEVENT
BEGIN:VEVENT
DTSTART;TZID=Europe/London:20191004T093000
DTEND;TZID=Europe/London:20191004T110000
DTSTAMP:20260423T030252
CREATED:20180930T145016Z
LAST-MODIFIED:20191001T201232Z
UID:1384-1570181400-1570186800@www.stmartinsmorden.org.uk
SUMMARY:Macmillan coffee morning
DESCRIPTION:Our weekly Coffee ‘n’ Chat is hosting a Macmillan coffee morning. \nEveryone is welcome to join us! \n  \n  \nShare this Post
URL:https://www.stmartinsmorden.org.uk/event/macmillan-coffee-morning-2019/
CATEGORIES:Additional event
END:VEVENT
BEGIN:VEVENT
DTSTART;TZID=Europe/London:20190928T170000
DTEND;TZID=Europe/London:20190928T193000
DTSTAMP:20260423T030252
CREATED:20180812T213526Z
LAST-MODIFIED:20190917T220626Z
UID:1331-1569690000-1569699000@www.stmartinsmorden.org.uk
SUMMARY:Harvest supper and quiz
DESCRIPTION:Food and fun for all ages! \nForm a team of 4-10 people for a light hearted quiz. \nTickets cost £5.00 for adults.  Under 16s go free. \nThis is an opportunity to invite friends\, relatives and neighbours. \nShare this Post
URL:https://www.stmartinsmorden.org.uk/event/harvest-weekend-2019/
CATEGORIES:Event
END:VEVENT
BEGIN:VEVENT
DTSTART;VALUE=DATE:20190907
DTEND;VALUE=DATE:20190908
DTSTAMP:20260423T030252
CREATED:20190623T191525Z
LAST-MODIFIED:20190812T194453Z
UID:1754-1567814400-1567900799@www.stmartinsmorden.org.uk
SUMMARY:Car trip to Hever Castle
DESCRIPTION:Our annual car outing this year is to Hever Castle\, the childhood home of Anne Boleyn.  Set in 125 acres of glorious grounds with award-winning gardens\, playground\, water maze and yew maze.  There is plenty to do and see (including a craft fair on the day we are there). \nThe price is £13.40 per adult\, £12.60 per senior\, £10.50 per student\, £5.15 per child (5-15). \n  \n\n\n\nShare this Post
URL:https://www.stmartinsmorden.org.uk/event/car-trip-to-hever-castle-2019/
LOCATION:Hever Castle\, TN8 7NG\, United Kingdom
CATEGORIES:Additional event
ATTACH;FMTTYPE=image/png:https://www.stmartinsmorden.org.uk/wp-content/uploads/2018/07/vintage-35120_640.png
END:VEVENT
BEGIN:VEVENT
DTSTART;TZID=Europe/London:20190824T150000
DTEND;TZID=Europe/London:20190824T150000
DTSTAMP:20260423T030252
CREATED:20190705T234534Z
LAST-MODIFIED:20190812T195111Z
UID:1761-1566658800-1566658800@www.stmartinsmorden.org.uk
SUMMARY:Concert and afternoon tea
DESCRIPTION:Paul\, our organist\, is giving a concert of popular light music.  He will be joined by Anna who will be singing a few songs. \nWhy not invite your family and friends? \nThe concert will be followed by afternoon tea.  To help us plan the catering\, please add your name to the sign up sheet at the back of the church. \nEntrance is free\, but we will be taking a voluntary collection for church repairs. \n\n\n\nShare this Post
URL:https://www.stmartinsmorden.org.uk/event/paul-concert-2019/
CATEGORIES:Additional event
END:VEVENT
BEGIN:VEVENT
DTSTART;TZID=Europe/London:20190620T194500
DTEND;TZID=Europe/London:20190620T194500
DTSTAMP:20260423T030252
CREATED:20181104T132134Z
LAST-MODIFIED:20190526T154828Z
UID:1471-1561059900-1561059900@www.stmartinsmorden.org.uk
SUMMARY:Mahabba meeting @ St. George's church
DESCRIPTION:“Mahabba” means “love” in Arabic. \nThis is a parish-wide meeting where we can learn more about our Muslim neighbours and have an opportunity to pray for them.
URL:https://www.stmartinsmorden.org.uk/event/mahabba-meeting-jun-2019/
LOCATION:St George’s Church\, 98 Central Road\, SM4 5RJ\, United Kingdom
CATEGORIES:Additional event
END:VEVENT
BEGIN:VEVENT
DTSTART;TZID=Europe/London:20190615T100000
DTEND;TZID=Europe/London:20190615T140000
DTSTAMP:20260423T030252
CREATED:20180429T160124Z
LAST-MODIFIED:20190526T154505Z
UID:1140-1560592800-1560607200@www.stmartinsmorden.org.uk
SUMMARY:Community fun day
DESCRIPTION:Activities (including bouncy castle and face painting)\, refreshments and BBQ.\n\nAll free!\n\nEveryone is welcome!
URL:https://www.stmartinsmorden.org.uk/event/community-fun-day-2019/
CATEGORIES:Additional event
END:VEVENT
BEGIN:VEVENT
DTSTART;VALUE=DATE:20190529
DTEND;VALUE=DATE:20190601
DTSTAMP:20260423T030252
CREATED:20190406T150908Z
LAST-MODIFIED:20190427T095722Z
UID:1703-1559088000-1559347199@www.stmartinsmorden.org.uk
SUMMARY:Summer Holiday Club: Lights! Camera! Action! @9:30-12:30
DESCRIPTION:Our summer Holiday Club takes place at the end of May this year. It’s suitable for children aged 4-11 and it promises to be a great time for children to get together\, have fun\, meet new friends\, play games and listen to Bible stories.  Children registered before 1st May are guaranteed a free t-shirt. \nThe cost is £15 per child (maximum £30 per family). \nSpaces are limited and the absolute deadline for all bookings is Friday 24th May.  So please apply now! \nClick here for downloadable application form. \n\n\n\nShare this Post
URL:https://www.stmartinsmorden.org.uk/event/holiday-club-spring-2019/
CATEGORIES:Children event,Holiday Club
END:VEVENT
BEGIN:VEVENT
DTSTART;TZID=Europe/London:20190323T184500
DTEND;TZID=Europe/London:20190323T184500
DTSTAMP:20260423T030252
CREATED:20180218T151043Z
LAST-MODIFIED:20190225T220945Z
UID:979-1553366700-1553366700@www.stmartinsmorden.org.uk
SUMMARY:Men’s curry evening
DESCRIPTION:Join us for a homemade curry\, conversation and a short Christian message. \nA great event to invite friends and family! \nTickets cost £6.
URL:https://www.stmartinsmorden.org.uk/event/mens-cooking-demonstration-2019/
CATEGORIES:Additional event
END:VEVENT
BEGIN:VEVENT
DTSTART;TZID=Europe/London:20190306T194500
DTEND;TZID=Europe/London:20190306T194500
DTSTAMP:20260423T030252
CREATED:20190226T212442Z
LAST-MODIFIED:20190226T212442Z
UID:1628-1551901500-1551901500@www.stmartinsmorden.org.uk
SUMMARY:God's Big Picture
DESCRIPTION:For our Lent course this year\, we will be looking at the grand story of the Bible. \nPlease join us at 7:45pm on the following dates: 6 March\, 13 March\, 27 March\, 3 April\, 24 April\, 1 May\, 8 May \nIf you would like a copy of the book that accompanies the course\, please sign up at church. Books cost £5. \n\n\n\nShare this Post
URL:https://www.stmartinsmorden.org.uk/event/gods-big-picture/
CATEGORIES:Lent Course
END:VEVENT
BEGIN:VEVENT
DTSTART;TZID=Europe/London:20190301T104500
DTEND;TZID=Europe/London:20190301T104500
DTSTAMP:20260423T030252
CREATED:20190225T215252Z
LAST-MODIFIED:20190318T203522Z
UID:1608-1551437100-1551437100@www.stmartinsmorden.org.uk
SUMMARY:World day of prayer
DESCRIPTION:This year’s service has been prepared by the women of Slovenia. \nIt will be followed by a light lunch. \nImage by pohjakroon on Pixabay \nShare this Post
URL:https://www.stmartinsmorden.org.uk/event/world-day-of-prayer-2019/
CATEGORIES:Additional service
END:VEVENT
BEGIN:VEVENT
DTSTART;TZID=Europe/London:20181201T193000
DTEND;TZID=Europe/London:20181201T193000
DTSTAMP:20260423T030252
CREATED:20181104T131341Z
LAST-MODIFIED:20181130T100321Z
UID:1468-1543692600-1543692600@www.stmartinsmorden.org.uk
SUMMARY:Handel's Messiah part one and festive carols @ St. Saviour's church
DESCRIPTION:West Barnes Singers present Handel’s Messiah part one and festive carols at St. Saviour’s church\, Grand Drive. \nAdult tickets £10. \nChildren attend for free. \n  \n  \nShare this Post
URL:https://www.stmartinsmorden.org.uk/event/handels-messiah/
LOCATION:St Saviour’s Church\, Grand Drive\, SW20 9DL
CATEGORIES:Additional event
END:VEVENT
BEGIN:VEVENT
DTSTART;TZID=Europe/London:20181114T153000
DTEND;TZID=Europe/London:20181114T173000
DTSTAMP:20260423T030252
CREATED:20180520T131049Z
LAST-MODIFIED:20181104T125930Z
UID:1154-1542209400-1542216600@www.stmartinsmorden.org.uk
SUMMARY:The Christmas Journey open evening
DESCRIPTION:An opportunity to experience the Christmas Journey event that local primary schools are attending this week. \nClick here to read about last year’s Christmas Journey. \n  \n  \nShare this Post
URL:https://www.stmartinsmorden.org.uk/event/the-christmas-journey-2018-2/
CATEGORIES:Additional event,Christmas
ATTACH;FMTTYPE=image/png:https://www.stmartinsmorden.org.uk/wp-content/uploads/2016/02/cjlogo.png
END:VEVENT
BEGIN:VEVENT
DTSTART;TZID=Europe/London:20181104T150000
DTEND;TZID=Europe/London:20181104T150000
DTSTAMP:20260423T030252
CREATED:20180930T150625Z
LAST-MODIFIED:20181104T125604Z
UID:1394-1541343600-1541343600@www.stmartinsmorden.org.uk
SUMMARY:Parish memorial service @ St. Lawrence's church
DESCRIPTION:Our annual memorial service will take place at St. Lawrence’s church. \nIf there is a particular name you would like to be read out\, please fill in a card on the day. \n  \nShare this Post
URL:https://www.stmartinsmorden.org.uk/event/parish-memorial-service-2018/
LOCATION:St Lawrence church
CATEGORIES:Additional service,Sunday
END:VEVENT
BEGIN:VEVENT
DTSTART;VALUE=DATE:20181006
DTEND;VALUE=DATE:20181007
DTSTAMP:20260423T030252
CREATED:20180930T144706Z
LAST-MODIFIED:20180930T144706Z
UID:1382-1538784000-1538870399@www.stmartinsmorden.org.uk
SUMMARY:Christmas Journey training day @ 10 am
DESCRIPTION:We will be presenting the Christmas Journey for local schools from 12th to 14th November. \nIf you would like to join in\, please come along this Saturday. \nWe particularly need helpers for refreshments\, welcoming schools and crafts. \nAll participants will need to be up to date with DBS checks.
URL:https://www.stmartinsmorden.org.uk/event/christmas-journey-training-day-2018/
CATEGORIES:Admin meeting
END:VEVENT
BEGIN:VEVENT
DTSTART;VALUE=DATE:20180922
DTEND;VALUE=DATE:20180923
DTSTAMP:20260423T030252
CREATED:20180429T160805Z
LAST-MODIFIED:20180818T093007Z
UID:1143-1537574400-1537660799@www.stmartinsmorden.org.uk
SUMMARY:Car trip to Parham House
DESCRIPTION:Our annual car outing this year is to Parham House\, which is about 45 miles away in West Sussex.  The house itself was built in the 16th century and is well worth seeing (it is in the top twenty of Simon Jenkins’ “England’s Thousand Best Houses”)\, but there are also beautiful gardens and an Autumn Fair which presents the best in homemade food and locally grown produce as well as activities for all ages.  With estate tours\, deer walks\, gun dogs and falconry displays\, there is plenty to see and do. \nEntrance £9.50 per adult\, £5.00 per child. \nPlease sign the list at the back of the church as soon as possible so that we can place a booking. \n\n\n\nShare this Post
URL:https://www.stmartinsmorden.org.uk/event/car-trip-to-parham-house-2018/
LOCATION:Parham House\, RH20 4HS\, United Kingdom
CATEGORIES:Additional event
ATTACH;FMTTYPE=image/png:https://www.stmartinsmorden.org.uk/wp-content/uploads/2018/07/vintage-35120_640.png
END:VEVENT
BEGIN:VEVENT
DTSTART;VALUE=DATE:20180917
DTEND;VALUE=DATE:20180918
DTSTAMP:20260423T030252
CREATED:20180819T120018Z
LAST-MODIFIED:20181014T151219Z
UID:1342-1537142400-1537228799@www.stmartinsmorden.org.uk
SUMMARY:"Just start talking!" @ 8 pm
DESCRIPTION:Do you ever feel shy or fearful or inadequate when it comes to talking about Jesus with others? Well\, you are not alone! \nThis course is designed to help Christians grow in confidence when it comes to talking about Jesus. \nThis course runs at St. Martin’s on the following Mondays at 8 pm:\n  \n\n17th September\n1st October\n15th October\n\nThe course comes with a workbook.  Please sign-up so we can order you a book.  The sign-up sheet is at the back of the church. \n  \nShare this Post
URL:https://www.stmartinsmorden.org.uk/event/just-start-talking-2018-1/
CATEGORIES:Course
END:VEVENT
BEGIN:VEVENT
DTSTART;VALUE=DATE:20180818
DTEND;VALUE=DATE:20180819
DTSTAMP:20260423T030252
CREATED:20180717T214422Z
LAST-MODIFIED:20190318T203721Z
UID:1300-1534550400-1534636799@www.stmartinsmorden.org.uk
SUMMARY:Paul's anniversary concert @ 3:00 pm
DESCRIPTION:Paul\, our organist\, has been with us for 30 years!!! \nAnd he’s giving a concert to celebrate this. \nEntrance is free\, but we will be taking a voluntary collection for church repairs. \nWhy not invite your family and friends? \nThe concert will be followed by afternoon tea.  Please sign up on the list at the back of the church (or online here) so that we can judge the catering. \n\n\n\nShare this Post
URL:https://www.stmartinsmorden.org.uk/event/paul-anniversary-concert-2018/
CATEGORIES:Additional event
END:VEVENT
BEGIN:VEVENT
DTSTART;VALUE=DATE:20180722
DTEND;VALUE=DATE:20180723
DTSTAMP:20260423T030252
CREATED:20180717T184331Z
LAST-MODIFIED:20180717T184331Z
UID:1292-1532217600-1532303999@www.stmartinsmorden.org.uk
SUMMARY:Church family picnic at the vicarage
DESCRIPTION:We will be having a church family picnic in the back garden of the vicarage (or in the church if it rains). \nWe aim to gather at 12:30 pm. \nPlease bring your own food. \nWe will supply some chairs\, but\, if you have picnic chairs\, then please do bring them. \n\n\n\nShare this Post
URL:https://www.stmartinsmorden.org.uk/event/church-family-picnic-july-2018/
CATEGORIES:Church family meal
END:VEVENT
BEGIN:VEVENT
DTSTART;TZID=Europe/London:20180302T104500
DTEND;TZID=Europe/London:20180302T114500
DTSTAMP:20260423T030252
CREATED:20180225T135651Z
LAST-MODIFIED:20180225T151410Z
UID:1010-1519987500-1519991100@www.stmartinsmorden.org.uk
SUMMARY:Women's World Day of Prayer (men also welcome) at Emmanuel Church
DESCRIPTION:This year’s service is called “All God’s Creation is Very Good” and it has been prepared by the women of Suriname.   \nIt will be followed by a buffet lunch. There is no need to book\, but there is a suggested donation of £3. \n  \nShare this Post
URL:https://www.stmartinsmorden.org.uk/event/womens-world-day-2018/
LOCATION:Emmanuel Church\, Dudley Drive\, SM4 4RJ\, United Kingdom
CATEGORIES:Additional service
END:VEVENT
BEGIN:VEVENT
DTSTART;TZID=Europe/London:20171006T193000
DTEND;TZID=Europe/London:20171006T213000
DTSTAMP:20260423T030252
CREATED:20170708T182630Z
LAST-MODIFIED:20200904T232056Z
UID:455-1507318200-1507325400@www.stmartinsmorden.org.uk
SUMMARY:A Monk's Tale - 6th October
DESCRIPTION:We’re looking forward to hosting this brilliant comedy play by James Cary\, award-winning writer of BBC’s Miranda\, Bluestone 42 and the play The God Particle. \nOn the evening of Friday 6th October 2017\, get ready for a roller-coaster guide to the events of 500 years ago… \nThe show is about Martin Luther. And it’s for people who aren’t quite sure which Luther we’re talking about. \nWith a feeling of Horrible Histories and Monty Python\, A Monk’s Tale helps us understand exactly what Luther was trying to do with his 95 Theses\, which sparked one of the most significant movements in history: the Reformation! \nDoors open at 7.30pm\, ready for an 8pm performance. Refreshments will be served. Tickets cost £5 in advance\, or £7 on the door – book now by e-mailing amonkstale@morden.church and we’ll get back to you as soon as we can. \nWhy not visit the A Monk’s Tale website for further information\, photos and cast details? \n  \nShare this Post
URL:https://www.stmartinsmorden.org.uk/event/a-monks-tale-6th-october-2/
LOCATION:St Martin’s Church\, Camborne Road\, Morden\, Surrey\, SM44JN\, United Kingdom
CATEGORIES:Additional event
END:VEVENT
BEGIN:VEVENT
DTSTART;VALUE=DATE:20170916
DTEND;VALUE=DATE:20170917
DTSTAMP:20260423T030252
CREATED:20170708T180317Z
LAST-MODIFIED:20180520T132625Z
UID:448-1505520000-1505606399@www.stmartinsmorden.org.uk
SUMMARY:Car Trip to Bentley Wildfowl Park & Motor Museum
DESCRIPTION:Situated just outside of Lewes in a peaceful corner of East Sussex\, Bentley has much on offer to interest people of all ages.  The wildfowl reserve has 1000 birds and 130 species from around the world.  The motor museum contains a unique collection of cars\, motorcycles\, cycles and vehicles that spans over 100 years of road transport history.  There are woodlands to explore and an adventure playground for children.  The miniature railway and cafe are popular highlights\, as are the craft workshops and miniature Shetland ponies.  Their ever popular Bentley Woodfair is held on the weekend of our visit. \nPlease consider joining us on this exciting day trip and book this day in your diary.  Tickets will be available shortly – Adults £14; Senior citizens £12; Children (3-15) £10. \n  \nShare this event
URL:https://www.stmartinsmorden.org.uk/event/car-trip-bentley-wildfowl-park-motor-museum/
LOCATION:Bentley Wildfowl Park & Motor Museum\, Harveys Lane\, BN8 5AF\, United Kingdom
CATEGORIES:Additional event
END:VEVENT
BEGIN:VEVENT
DTSTART;TZID=Europe/London:20170619T193000
DTEND;TZID=Europe/London:20170619T213000
DTSTAMP:20260423T030252
CREATED:20170515T101825Z
LAST-MODIFIED:20170515T101825Z
UID:431-1497900600-1497907800@www.stmartinsmorden.org.uk
SUMMARY:60's Style Youth Club
DESCRIPTION:For more info contact us.
URL:https://www.stmartinsmorden.org.uk/event/60s-style-youth-club/
LOCATION:St Martin’s Church\, Camborne Road\, Morden\, Surrey\, SM44JN\, United Kingdom
END:VEVENT
BEGIN:VEVENT
DTSTART;TZID=Europe/London:20170312T103000
DTEND;TZID=Europe/London:20170312T123000
DTSTAMP:20260423T030252
CREATED:20170207T171347Z
LAST-MODIFIED:20170207T172851Z
UID:391-1489314600-1489321800@www.stmartinsmorden.org.uk
SUMMARY:60th Anniversary Service
DESCRIPTION:Share this Post
URL:https://www.stmartinsmorden.org.uk/event/60th-anniversary-service/
LOCATION:St Martin’s Church\, Camborne Road\, Morden\, Surrey\, SM44JN\, United Kingdom
ATTACH;FMTTYPE=image/png:https://www.stmartinsmorden.org.uk/wp-content/uploads/2017/02/60anniversary-02-01.png
END:VEVENT
BEGIN:VEVENT
DTSTART;VALUE=DATE:20170311
DTEND;VALUE=DATE:20170312
DTSTAMP:20260423T030252
CREATED:20170207T153913Z
LAST-MODIFIED:20170207T172749Z
UID:383-1489190400-1489276799@www.stmartinsmorden.org.uk
SUMMARY:60th Anniversary Open Day
DESCRIPTION:With local history exhibition\, free refreshments\, and activities for the children.Share this Post
URL:https://www.stmartinsmorden.org.uk/event/60th-anniversary-open-day/
LOCATION:St Martin’s Church\, Camborne Road\, Morden\, Surrey\, SM44JN\, United Kingdom
ATTACH;FMTTYPE=image/png:https://www.stmartinsmorden.org.uk/wp-content/uploads/2017/02/60anniversary-01.png
END:VEVENT
BEGIN:VEVENT
DTSTART;TZID=Europe/London:20170308T194500
DTEND;TZID=Europe/London:20170329T091500
DTSTAMP:20260423T030252
CREATED:20170207T171821Z
LAST-MODIFIED:20170221T141010Z
UID:394-1489002300-1490778900@www.stmartinsmorden.org.uk
SUMMARY:'In Christ Alone' - Lent Course
DESCRIPTION:‘In Christ Alone’\nCommemorating 500 years since the Reformation\nFor Lent 2017\, we’re going to be joining a project with the other churches in our parish team. Our main evening Lent Course session will be taking place on Wednesday evenings in March\, at the same time as the other three churches will be meeting. Over the month\, all four church families will be getting to grips with some of the important things we can learn from the Reformation\, from a ‘carousel’ of speakers. \nThis year is the 500th anniversary of the start of the Reformation\, a time which led to the recovery of key truths for Christians\, truths which are just as important today as they ever were. The five ‘solas’ are a good guide to the Reformation: that salvation comes by grace alone\, through scripture alone\, by faith alone\, in Christ alone\, and all of life is to the glory of God alone! \nWe’ll be finding out about some of the major players in the sixteenth century\, and seeing what they taught\, and what a legacy they have given to the church today. And we’ll be taking a look at some of the passages from the Bible which God used to stir the hearts of the Reformers. \nAs with previous years\, it’s a time that will be open to those who aren’t currently members of a home group\, and to visitors: everyone is welcome\, and everything you need will be provided on the night. If you wouldn’t call yourself a Christian yet\, you’re still very welcome to come along – we won’t make assumptions\, and there’ll be plenty of opportunity to bring your questions. Hopefully\, you’ll get some answers! And you’ll learn about some of the truths of the Bible that make a world of difference to our lives today. \nCome along and find out more – just let us know if you’re planning to attend. In the meantime\, why not have a look at this short video? Lee Gatiss\, a Reformation expert\, was given one minute to explain what this period of history is all about and why it matters to the church. Watch the video to see what he said! \n \nEverything starts with the Ash Wednesday services on Wednesday 1st March\, from 10am at St George’s\, and 8pm at St Lawrence. There’ll be an introduction to the course at those services. After that\, choose between these two options: \n\n\nEvenings\, from Wednesday 8th March: session runs from 7:45 to 9:15pm\nMornings\, from Wednesday 15th March: coffee at 10.30am\, session runs from 10.45am to 12.15pm at Emmanuel Church (others from the parish will be attending the daytime course)\n\nThe content of the sessions will be as follows: \n\n8th March: Cranmer\n15th March: Calvin\n22nd March: Tyndale\n29th March: Luther\n\nShare this Post
URL:https://www.stmartinsmorden.org.uk/event/christ-alone-lent-course/
LOCATION:St Martin’s Church\, Camborne Road\, Morden\, Surrey\, SM44JN\, United Kingdom
ATTACH;FMTTYPE=image/jpeg:https://www.stmartinsmorden.org.uk/wp-content/uploads/2017/02/17-02-In-Christ-Alone-Website-homepage.jpg
END:VEVENT
BEGIN:VEVENT
DTSTART;TZID=Europe/London:20160611T143000
DTEND;TZID=Europe/London:20160611T170000
DTSTAMP:20260423T030252
CREATED:20160519T172104Z
LAST-MODIFIED:20160519T172104Z
UID:302-1465655400-1465664400@www.stmartinsmorden.org.uk
SUMMARY:Queen's 90th Tea Party
DESCRIPTION:Fun\, food and music!\nSaturday 11th June 2.30pm -5pm \nBook a place: 0208 540 5478
URL:https://www.stmartinsmorden.org.uk/event/queens-90th-tea-party/
LOCATION:St Martin’s Church\, Camborne Road\, Morden\, Surrey\, SM44JN\, United Kingdom
ATTACH;FMTTYPE=image/png:https://www.stmartinsmorden.org.uk/wp-content/uploads/2016/05/Queens-birthday-tea-01.png
END:VEVENT
BEGIN:VEVENT
DTSTART;TZID=Europe/London:20160224T200000
DTEND;TZID=Europe/London:20160309T200000
DTSTAMP:20260423T030252
CREATED:20160212T184458Z
LAST-MODIFIED:20160212T184458Z
UID:276-1456344000-1457553600@www.stmartinsmorden.org.uk
SUMMARY:Three Easter Talks
DESCRIPTION:We would love to invite everyone to “Three Easter Talks” \nThree accessible Bible talks to explain what Easter is all about – with time for questions. \nWednesdays 8pm: 24th February\, 2nd and 9th March \nThere will be cake and hot drinks!
URL:https://www.stmartinsmorden.org.uk/event/three-easter-talks/
LOCATION:St Martin’s Church\, Camborne Road\, Morden\, Surrey\, SM44JN\, United Kingdom
ATTACH;FMTTYPE=image/png:https://www.stmartinsmorden.org.uk/wp-content/uploads/2016/02/invite-1.png
END:VEVENT
END:VCALENDAR