BEGIN:VCALENDAR
VERSION:2.0
PRODID:-//St Martin&#039;s Morden SM4 - ECPv6.15.20//NONSGML v1.0//EN
CALSCALE:GREGORIAN
METHOD:PUBLISH
X-WR-CALNAME:St Martin&#039;s Morden SM4
X-ORIGINAL-URL:https://www.stmartinsmorden.org.uk
X-WR-CALDESC:Events for St Martin&#039;s Morden SM4
REFRESH-INTERVAL;VALUE=DURATION:PT1H
X-Robots-Tag:noindex
X-PUBLISHED-TTL:PT1H
BEGIN:VTIMEZONE
TZID:Europe/London
BEGIN:DAYLIGHT
TZOFFSETFROM:+0000
TZOFFSETTO:+0100
TZNAME:BST
DTSTART:20230326T010000
END:DAYLIGHT
BEGIN:STANDARD
TZOFFSETFROM:+0100
TZOFFSETTO:+0000
TZNAME:GMT
DTSTART:20231029T010000
END:STANDARD
BEGIN:DAYLIGHT
TZOFFSETFROM:+0000
TZOFFSETTO:+0100
TZNAME:BST
DTSTART:20240331T010000
END:DAYLIGHT
BEGIN:STANDARD
TZOFFSETFROM:+0100
TZOFFSETTO:+0000
TZNAME:GMT
DTSTART:20241027T010000
END:STANDARD
BEGIN:DAYLIGHT
TZOFFSETFROM:+0000
TZOFFSETTO:+0100
TZNAME:BST
DTSTART:20250330T010000
END:DAYLIGHT
BEGIN:STANDARD
TZOFFSETFROM:+0100
TZOFFSETTO:+0000
TZNAME:GMT
DTSTART:20251026T010000
END:STANDARD
BEGIN:DAYLIGHT
TZOFFSETFROM:+0000
TZOFFSETTO:+0100
TZNAME:BST
DTSTART:20260329T010000
END:DAYLIGHT
BEGIN:STANDARD
TZOFFSETFROM:+0100
TZOFFSETTO:+0000
TZNAME:GMT
DTSTART:20261025T010000
END:STANDARD
BEGIN:DAYLIGHT
TZOFFSETFROM:+0000
TZOFFSETTO:+0100
TZNAME:BST
DTSTART:20270328T010000
END:DAYLIGHT
BEGIN:STANDARD
TZOFFSETFROM:+0100
TZOFFSETTO:+0000
TZNAME:GMT
DTSTART:20271031T010000
END:STANDARD
END:VTIMEZONE
BEGIN:VEVENT
DTSTART;TZID=Europe/London:20250525T103000
DTEND;TZID=Europe/London:20250525T113000
DTSTAMP:20260422T231032
CREATED:20231117T204543Z
LAST-MODIFIED:20250520T085422Z
UID:3178-1748169000-1748172600@www.stmartinsmorden.org.uk
SUMMARY:All Age Service
DESCRIPTION:Join us for a service that caters for the youngest to the oldest. Everyone welcome.
URL:https://www.stmartinsmorden.org.uk/event/all-age-service/
CATEGORIES:Sunday
END:VEVENT
BEGIN:VEVENT
DTSTART;TZID=Europe/London:20250506T194500
DTEND;TZID=Europe/London:20260106T210000
DTSTAMP:20260422T231032
CREATED:20170730T133822Z
LAST-MODIFIED:20250425T131916Z
UID:599-1746560700-1767733200@www.stmartinsmorden.org.uk
SUMMARY:Monthly Church family prayer meeting
DESCRIPTION:Our most important meeting of the month is our prayer meeting which now takes place on Tuesdays\, usually the first Tuesday of the month. This is a time for members to praise God for who He is and what He has done for us in Jesus Christ\, as well as to thank Him for answered prayer. We also pray for church matters\, our mission and ministry as well as for the wider community and world.
URL:https://www.stmartinsmorden.org.uk/event/church-family-prayer-meeting-oct-2021/
CATEGORIES:Prayer meeting
END:VEVENT
BEGIN:VEVENT
DTSTART;TZID=Europe/London:20250429T091500
DTEND;TZID=Europe/London:20251209T094500
DTSTAMP:20260422T231032
CREATED:20201107T184638Z
LAST-MODIFIED:20250425T132020Z
UID:2117-1745918100-1765273500@www.stmartinsmorden.org.uk
SUMMARY:Tuesday morning prayers (via Zoom)
DESCRIPTION:We are continuing with our weekly Tuesday Prayer Meetings as we pray for our church\, nation and world. If you are able to join us to pray for 30mins on Tuesday mornings at 9.15 am\, please do. \nYou can find the Zoom details in the church takeaway.
URL:https://www.stmartinsmorden.org.uk/event/tuesday-morning-prayers/
CATEGORIES:Prayer meeting
END:VEVENT
BEGIN:VEVENT
DTSTART;TZID=Europe/London:20250420T103000
DTEND;TZID=Europe/London:20250420T103000
DTSTAMP:20260422T231032
CREATED:20170828T141826Z
LAST-MODIFIED:20250411T131825Z
UID:608-1745145000-1745145000@www.stmartinsmorden.org.uk
SUMMARY:Easter Sunday Celebration with All-Age Holy Communion plus Easter Egg Hunt
DESCRIPTION:Christ is risen! Celebrate with us!
URL:https://www.stmartinsmorden.org.uk/event/easter-sunday/
CATEGORIES:Sunday
END:VEVENT
BEGIN:VEVENT
DTSTART;TZID=Europe/London:20250418T140000
DTEND;TZID=Europe/London:20250418T140000
DTSTAMP:20260422T231032
CREATED:20180107T143004Z
LAST-MODIFIED:20250318T155152Z
UID:903-1744984800-1744984800@www.stmartinsmorden.org.uk
SUMMARY:Good Friday Meditations: at the foot of the cross
DESCRIPTION:Join us for our Good Friday meditations \nAt the Foot of the Cross\n18th April | 2pm
URL:https://www.stmartinsmorden.org.uk/event/good-friday/
CATEGORIES:Additional service,Holy Week
ATTACH;FMTTYPE=image/jpeg:https://www.stmartinsmorden.org.uk/wp-content/uploads/2021/03/This-is-LOVE.jpg
END:VEVENT
BEGIN:VEVENT
DTSTART;TZID=Europe/London:20250418T083000
DTEND;TZID=Europe/London:20250418T103000
DTSTAMP:20260422T231032
CREATED:20220404T182009Z
LAST-MODIFIED:20250318T154805Z
UID:2755-1744965000-1744972200@www.stmartinsmorden.org.uk
SUMMARY:Good Friday Family Breakfast Service
DESCRIPTION:Good Friday Family Breakfast Service \nJoin us for breakfast followed by a lively service for children.
URL:https://www.stmartinsmorden.org.uk/event/good-friday-family-breakfast-service/
CATEGORIES:Additional service,Holy Week
END:VEVENT
BEGIN:VEVENT
DTSTART;TZID=Europe/London:20250413T103000
DTEND;TZID=Europe/London:20250413T103000
DTSTAMP:20260422T231032
CREATED:20170828T140015Z
LAST-MODIFIED:20250318T151648Z
UID:604-1744540200-1744540200@www.stmartinsmorden.org.uk
SUMMARY:Sunday service in church
DESCRIPTION:This Sunday is Palm Sunday. \nHope you can join us.
URL:https://www.stmartinsmorden.org.uk/event/sunday-service-2/
CATEGORIES:Sunday
END:VEVENT
BEGIN:VEVENT
DTSTART;TZID=Europe/London:20250406T103000
DTEND;TZID=Europe/London:20250406T103000
DTSTAMP:20260422T231032
CREATED:20180225T134502Z
LAST-MODIFIED:20250318T151404Z
UID:990-1743935400-1743935400@www.stmartinsmorden.org.uk
SUMMARY:Holy Communion service in church
DESCRIPTION:This Sunday is our monthly Communion service. \n  \n 
URL:https://www.stmartinsmorden.org.uk/event/holy-communion-service/
CATEGORIES:Sunday
END:VEVENT
BEGIN:VEVENT
DTSTART;TZID=Europe/London:20250330T103000
DTEND;TZID=Europe/London:20250330T120000
DTSTAMP:20260422T231032
CREATED:20180225T134521Z
LAST-MODIFIED:20250318T151057Z
UID:991-1743330600-1743336000@www.stmartinsmorden.org.uk
SUMMARY:Mothering Sunday
DESCRIPTION:Celebrate God’s gift of mothers!\n\nVisitors are very welcome.\n\nOur Sunday Club children will be sharing in the first part of this service and will then go to their own group.\n\nShare this Post
URL:https://www.stmartinsmorden.org.uk/event/mothering-sunday-service/
CATEGORIES:Sunday
END:VEVENT
BEGIN:VEVENT
DTSTART;TZID=Europe/London:20250209T103000
DTEND;TZID=Europe/London:20250209T103000
DTSTAMP:20260422T231032
CREATED:20220804T210941Z
LAST-MODIFIED:20250117T144816Z
UID:2896-1739097000-1739097000@www.stmartinsmorden.org.uk
SUMMARY:Sunday service in church
DESCRIPTION:This Sunday continues our sermon series on BIG QUESTIONS \nSunday\, 19th January\, 10:30am Does God care about suffering? \nSunday 2nd February\, 10:30am Does God care about my anxiety? \nSunday 9th February\, 10:30am Does God care about justice? \nSunday 16th February\, 10:30am Does God care about the environment? \n  \nHope you can join us.
URL:https://www.stmartinsmorden.org.uk/event/sunday-service-in-church/
CATEGORIES:Sunday
END:VEVENT
BEGIN:VEVENT
DTSTART;TZID=Europe/London:20250119T103000
DTEND;TZID=Europe/London:20250119T103000
DTSTAMP:20260422T231032
CREATED:20170909T234537Z
LAST-MODIFIED:20250117T144214Z
UID:657-1737282600-1737282600@www.stmartinsmorden.org.uk
SUMMARY:Sunday service in church
DESCRIPTION:This Sunday is the first in our sermon series on BIG QUESTIONS \nSunday\, 19th January\, 10:30am Does God care about suffering? \nSunday 2nd February\, 10:30am Does God care about my anxiety? \nSunday 9th February\, 10:30am Does God care about justice? \nSunday 16th February\, 10:30am Does God care about the environment? \n  \nHope you can join us.
URL:https://www.stmartinsmorden.org.uk/event/sunday-service/
CATEGORIES:Sunday
END:VEVENT
BEGIN:VEVENT
DTSTART;VALUE=DATE:20250119
DTEND;VALUE=DATE:20250217
DTSTAMP:20260422T231032
CREATED:20170910T133040Z
LAST-MODIFIED:20250121T144905Z
UID:667-1737244800-1739750399@www.stmartinsmorden.org.uk
SUMMARY:BIG QUESTIONS
DESCRIPTION:Our sermon series at the moment addresses some BIG QUESTIONS \nSunday\, 19th January\, 10:30am Does God care about suffering? \nSunday 2nd February\, 10:30am Does God care about my anxiety? \nSunday 9th February\, 10:30am Does God care about justice? \nSunday 16th February\, 10:30am Does God care about the environment? \n  \nHope you can join us.
URL:https://www.stmartinsmorden.org.uk/event/big-questions/
CATEGORIES:Additional event
END:VEVENT
BEGIN:VEVENT
DTSTART;TZID=Europe/London:20250118T140000
DTEND;TZID=Europe/London:20250118T170000
DTSTAMP:20260422T231032
CREATED:20191117T202550Z
LAST-MODIFIED:20241225T133226Z
UID:1861-1737208800-1737219600@www.stmartinsmorden.org.uk
SUMMARY:New Year community fun afternoon Saturday 18 January 2025 2.00-5.00pm
DESCRIPTION:Inflatables\, crafts\, refreshments\, games\, fun for all ages! \nAll indoors\, so never mind the weather! \nDo drop in to continue your New Year celebrations!
URL:https://www.stmartinsmorden.org.uk/event/new-year-community-fun-afternoon/
CATEGORIES:Additional event,Children event
END:VEVENT
BEGIN:VEVENT
DTSTART;TZID=Europe/London:20241225T103000
DTEND;TZID=Europe/London:20241225T103000
DTSTAMP:20260422T231032
CREATED:20201121T203657Z
LAST-MODIFIED:20241202T224120Z
UID:2136-1735122600-1735122600@www.stmartinsmorden.org.uk
SUMMARY:Christmas Day Service
DESCRIPTION:Celebrate Christmas Day at our All-Age service.\n\n  \n\n\n\n\nShare this Post
URL:https://www.stmartinsmorden.org.uk/event/christmas-day/
CATEGORIES:Christmas
ATTACH;FMTTYPE=image/png:https://www.stmartinsmorden.org.uk/wp-content/uploads/2016/10/christmas-day-01.png
END:VEVENT
BEGIN:VEVENT
DTSTART;TZID=Europe/London:20241224T231500
DTEND;TZID=Europe/London:20241224T231500
DTSTAMP:20260422T231033
CREATED:20171112T203307Z
LAST-MODIFIED:20241202T223859Z
UID:700-1735082100-1735082100@www.stmartinsmorden.org.uk
SUMMARY:Midnight Communion
DESCRIPTION:Welcome Christmas Day in with a quiet reflective service\nVisitors are very welcome.\n\nShare this Post
URL:https://www.stmartinsmorden.org.uk/event/midnight-communion/
CATEGORIES:Additional service,Christmas
ATTACH;FMTTYPE=image/png:https://www.stmartinsmorden.org.uk/wp-content/uploads/2017/11/shooting-star-147722_640.png
END:VEVENT
BEGIN:VEVENT
DTSTART;TZID=Europe/London:20241224T160000
DTEND;TZID=Europe/London:20241224T160000
DTSTAMP:20260422T231033
CREATED:20171112T203851Z
LAST-MODIFIED:20241202T223733Z
UID:701-1735056000-1735056000@www.stmartinsmorden.org.uk
SUMMARY:Crib & Christingle
DESCRIPTION:Sing carols round the crib and light a Christingle. Everyone warmly welcomed. \n\n\nShare this Post
URL:https://www.stmartinsmorden.org.uk/event/christmas-eve-family-service/
CATEGORIES:Additional service,Christmas
ATTACH;FMTTYPE=image/png:https://www.stmartinsmorden.org.uk/wp-content/uploads/2016/10/christingle-01.png
END:VEVENT
BEGIN:VEVENT
DTSTART;TZID=Europe/London:20241222T183000
DTEND;TZID=Europe/London:20241222T183000
DTSTAMP:20260422T231033
CREATED:20171112T204349Z
LAST-MODIFIED:20241202T223624Z
UID:702-1734892200-1734892200@www.stmartinsmorden.org.uk
SUMMARY:Carols by Candlelight
DESCRIPTION:Carols and Bible readings to inspire as we hear again of the wonderful events of the first Christmas. \nAn atmospheric service with choir\, carols and readings\, followed by mulled wine & mince pies \nVisitors are very welcome.\n\n\n\n\nShare this Post
URL:https://www.stmartinsmorden.org.uk/event/carols-by-candlelight-2019/
CATEGORIES:Additional service,Christmas,Sunday,Sunday Christmas
ATTACH;FMTTYPE=image/png:https://www.stmartinsmorden.org.uk/wp-content/uploads/2017/11/christmas-1111751_640.png
END:VEVENT
BEGIN:VEVENT
DTSTART;TZID=Europe/London:20241222T103000
DTEND;TZID=Europe/London:20241222T113000
DTSTAMP:20260422T231033
CREATED:20201121T200427Z
LAST-MODIFIED:20241202T230507Z
UID:2139-1734863400-1734867000@www.stmartinsmorden.org.uk
SUMMARY:Christmas Carol service
DESCRIPTION:This year we are holding Carol services in the morning as well as the evening.\n\n\n\nShare this Post
URL:https://www.stmartinsmorden.org.uk/event/christmas-carol-service-am/
CATEGORIES:Christmas,Sunday Christmas
ATTACH;FMTTYPE=image/jpeg:https://www.stmartinsmorden.org.uk/wp-content/uploads/2017/11/singing-18382_640.jpg
END:VEVENT
BEGIN:VEVENT
DTSTART;TZID=Europe/London:20241215T103000
DTEND;TZID=Europe/London:20241215T120000
DTSTAMP:20260422T231033
CREATED:20171112T200225Z
LAST-MODIFIED:20241202T223426Z
UID:689-1734258600-1734264000@www.stmartinsmorden.org.uk
SUMMARY:Sunday Club Nativity
DESCRIPTION:Visitors are welcome.\n\n\n\nShare this Post
URL:https://www.stmartinsmorden.org.uk/event/sunday-club-nativity-2019/
CATEGORIES:Christmas,Sunday,Sunday Christmas
ATTACH;FMTTYPE=image/png:https://www.stmartinsmorden.org.uk/wp-content/uploads/2017/11/reis-magos-1924496_640.png
END:VEVENT
BEGIN:VEVENT
DTSTART;TZID=Europe/London:20241207T140000
DTEND;TZID=Europe/London:20241207T160000
DTSTAMP:20260422T231033
CREATED:20180218T150458Z
LAST-MODIFIED:20241202T231612Z
UID:978-1733580000-1733587200@www.stmartinsmorden.org.uk
SUMMARY:Family Christmas craft afternoon
DESCRIPTION:Join us for Christmas craft for children of all ages and refreshments for the whole family \n\n\n\nShare this Post
URL:https://www.stmartinsmorden.org.uk/event/family-craft-aftrnoon/
CATEGORIES:Additional event
END:VEVENT
BEGIN:VEVENT
DTSTART;TZID=Europe/London:20241110T103000
DTEND;TZID=Europe/London:20241110T103000
DTSTAMP:20260422T231033
CREATED:20170828T141955Z
LAST-MODIFIED:20241030T203826Z
UID:611-1731234600-1731234600@www.stmartinsmorden.org.uk
SUMMARY:Remembrance Sunday service
DESCRIPTION:Join us for our Remembrance Sunday service.
URL:https://www.stmartinsmorden.org.uk/event/29-aug-2021/
CATEGORIES:Remembrance,Sunday
END:VEVENT
BEGIN:VEVENT
DTSTART;VALUE=DATE:20241022
DTEND;VALUE=DATE:20241027
DTSTAMP:20260422T231033
CREATED:20210808T112652Z
LAST-MODIFIED:20241010T155619Z
UID:2491-1729555200-1729987199@www.stmartinsmorden.org.uk
SUMMARY:Don't miss Real Lives with Martin Povey
DESCRIPTION:Our Real Lives week is fast approaching\, with evening events from Tuesday to Saturday 22 October – 26 October and Afternoon Cream Tea at St Martins on Wednesday 23 October  3.30pm. Do come along! click here for more information.
URL:https://www.stmartinsmorden.org.uk/event/real-lives/
LOCATION:St Martin’s
CATEGORIES:Additional event
END:VEVENT
BEGIN:VEVENT
DTSTART;TZID=Europe/London:20240929T103000
DTEND;TZID=Europe/London:20240929T120000
DTSTAMP:20260422T231033
CREATED:20170708T180544Z
LAST-MODIFIED:20240918T193833Z
UID:451-1727605800-1727611200@www.stmartinsmorden.org.uk
SUMMARY:Harvest celebration
DESCRIPTION:Our Harvest Celebration takes place on Sunday 29 September at 10:30 am. \nIt will be followed by a bring and share lunch. \nDuring the service we will be collecting donations for the Wimbledon Foodbank of dried/tinned food such as: \nUHT milk; Tinned meat; Tinned fish; Tinned fruit; Sponge/rice puddings; Coffee (small jars) Long-life juice; Pasta sauce; Tinned veg; Tinned meals; Tinned soup; Jam and spreads\nas well as non-food items: Shower gel; Shampoo/conditioner; Deodorant; Toilet rolls; Washing up liquid. \nVisitors are very welcome and this is an opportunity to invite friends\, relatives and neighbours. \nShare this Post
URL:https://www.stmartinsmorden.org.uk/event/harvest/
LOCATION:St Martin’s Church\, Camborne Road\, Morden\, Surrey\, SM44JN\, United Kingdom
CATEGORIES:Harvest,Sunday
END:VEVENT
BEGIN:VEVENT
DTSTART;TZID=Europe/London:20240725T194500
DTEND;TZID=Europe/London:20240829T194500
DTSTAMP:20260422T231033
CREATED:20220909T104423Z
LAST-MODIFIED:20240715T205717Z
UID:2901-1721936700-1724960700@www.stmartinsmorden.org.uk
SUMMARY:Summer Book Club 2024
DESCRIPTION:Join us every Thursday evening from 7.45 to discuss our Book Club choice for this summer\, True Friendship by Vaughan Roberts.\n  \nCopies available at a mere £1!! Read a chapter each week and then come along to discuss it with other friends.
URL:https://www.stmartinsmorden.org.uk/event/summer-book-club-2024/
CATEGORIES:Event
END:VEVENT
BEGIN:VEVENT
DTSTART;TZID=Europe/London:20240623T153000
DTEND;TZID=Europe/London:20240623T170000
DTSTAMP:20260422T231033
CREATED:20201106T230022Z
LAST-MODIFIED:20240604T175529Z
UID:2096-1719156600-1719162000@www.stmartinsmorden.org.uk
SUMMARY:Hymns That Inspire
DESCRIPTION:You are warmly invited to join us as we sing inspiring hymns & hear real life stories of how people’s faith in God can be encouraged through music. You don’t have to know anything about the Bible or music & you won’t have to sing if you don’t want to. Hymns that Inspire is an opportunity to enjoy music & listen to people’s stories. There will be plenty of time to chat and enjoy refreshments. You are sure to find a warm welcome. \nSUNDAY 23 JUNE AT 3:30pm \nat ST MARTIN’S CHURCH MORDEN
URL:https://www.stmartinsmorden.org.uk/event/hymns-that-inspire/
CATEGORIES:Prayer meeting
END:VEVENT
BEGIN:VEVENT
DTSTART;TZID=Europe/London:20240509T200000
DTEND;TZID=Europe/London:20240509T200000
DTSTAMP:20260422T231033
CREATED:20180307T205544Z
LAST-MODIFIED:20240503T173340Z
UID:1051-1715284800-1715284800@www.stmartinsmorden.org.uk
SUMMARY:Parish Ascension Day Service (at Emmanuel Church Stonecot Hill)
DESCRIPTION:We will be having a joint service with the other churches in our team for Ascension Day. The service will be at Emmanuel Church\, Dudley Drive. The service will be followed by refreshments \n\n\n\nShare this Post
URL:https://www.stmartinsmorden.org.uk/event/ascension-day-2021/
LOCATION:St Lawrence church
CATEGORIES:Additional service
END:VEVENT
BEGIN:VEVENT
DTSTART;TZID=Europe/London:20240507T110000
DTEND;TZID=Europe/London:20240528T120000
DTSTAMP:20260422T231033
CREATED:20180107T144255Z
LAST-MODIFIED:20240503T172053Z
UID:920-1715079600-1716897600@www.stmartinsmorden.org.uk
SUMMARY:Explore
DESCRIPTION:Explore is a chance for people to come and think about the person of Jesus. There will be questions and discussion over coffee and cake!\nIt’s free\, no need to book\, relaxed and informal.\nIt runs between 11:00am-12:00noon on the following dates: \nTuesday 30th April\,\nTuesday 7th May\nTuesday 14th May\nTuesday 21st May \nEVERYONE IS WELCOME \nContact mark.davey@morden.church for further details. \nExplore Life with Jesus \nJesus said\n“I have come that they may have LIFE\, and have it to the full.” \nShare this Post
URL:https://www.stmartinsmorden.org.uk/event/explore/
LOCATION:St Martin’s
CATEGORIES:Additional event,Course
END:VEVENT
BEGIN:VEVENT
DTSTART;TZID=Europe/London:20240416T153000
DTEND;TZID=Europe/London:20240416T153000
DTSTAMP:20260422T231033
CREATED:20191229T234323Z
LAST-MODIFIED:20240404T174930Z
UID:1885-1713281400-1713281400@www.stmartinsmorden.org.uk
SUMMARY:Cream Tea - Free! All are welcome
DESCRIPTION:  \nTuesday 16th April 3.30pm \n  \nChat\, scones\, cake\, tea\, coffee\, and a short talk about faith in Jesus.
URL:https://www.stmartinsmorden.org.uk/event/afternoon-tea/
CATEGORIES:Additional event
END:VEVENT
BEGIN:VEVENT
DTSTART;TZID=Europe/London:20240221T103000
DTEND;TZID=Europe/London:20240320T103000
DTSTAMP:20260422T231033
CREATED:20240130T133713Z
LAST-MODIFIED:20240216T224023Z
UID:3228-1708511400-1710930600@www.stmartinsmorden.org.uk
SUMMARY:Lent course - 'Tales of the Unexpected'
DESCRIPTION:This year for Lent we will be doing a four-session course called Tales of the Unexpected. This course looks at four startling stories that Jesus tells from Luke’s gospel. These stories tell us surprising things about ourselves\, God\, and life. Everyone is welcome to join us. \nYou can choose between Tuesday evenings or Wednesday mornings – or mix and match! \nThe dates and times are as follows: \nTuesday 20 Feb – 7:45pm; Wednesday 21 Feb – 10:30am \nTuesday 27 Feb – 7:45pm; Wednesday 28 Feb – 10:30am \nTuesday 12 March – 7:45pm; Wednesday 13 March – 10:30am \nTuesday 19 March – 7:45pm; Wednesday 20 March – 10:30am
URL:https://www.stmartinsmorden.org.uk/event/lent-course-2024-am/
CATEGORIES:Course,Lent Course
END:VEVENT
BEGIN:VEVENT
DTSTART;TZID=Europe/London:20240220T194500
DTEND;TZID=Europe/London:20240319T194500
DTSTAMP:20260422T231033
CREATED:20210207T185455Z
LAST-MODIFIED:20240216T224108Z
UID:2272-1708458300-1710877500@www.stmartinsmorden.org.uk
SUMMARY:Lent course - 'Tales of the Unexpected'
DESCRIPTION:This year for Lent we will be doing a four-session course called Tales of the Unexpected. This course looks at four startling stories that Jesus tells from Luke’s gospel. These stories tell us surprising things about ourselves\, God\, and life. Everyone is welcome to join us. \nYou can choose between Tuesday evenings or Wednesday mornings – or mix and match! \nThe dates and times are as follows: \nTuesday 20 Feb – 7:45pm; Wednesday 21 Feb – 10:30am \nTuesday 27 Feb – 7:45pm; Wednesday 28 Feb – 10:30am \nTuesday 12 March – 7:45pm; Wednesday 13 March – 10:30am \nTuesday 19 March – 7:45pm; Wednesday 20 March – 10:30am
URL:https://www.stmartinsmorden.org.uk/event/lent-course-2024-pm/
CATEGORIES:Course,Lent Course
END:VEVENT
END:VCALENDAR