BEGIN:VCALENDAR
VERSION:2.0
PRODID:-//St Martin&#039;s Morden SM4 - ECPv6.15.20//NONSGML v1.0//EN
CALSCALE:GREGORIAN
METHOD:PUBLISH
X-WR-CALNAME:St Martin&#039;s Morden SM4
X-ORIGINAL-URL:https://www.stmartinsmorden.org.uk
X-WR-CALDESC:Events for St Martin&#039;s Morden SM4
REFRESH-INTERVAL;VALUE=DURATION:PT1H
X-Robots-Tag:noindex
X-PUBLISHED-TTL:PT1H
BEGIN:VTIMEZONE
TZID:Europe/London
BEGIN:DAYLIGHT
TZOFFSETFROM:+0000
TZOFFSETTO:+0100
TZNAME:BST
DTSTART:20240331T010000
END:DAYLIGHT
BEGIN:STANDARD
TZOFFSETFROM:+0100
TZOFFSETTO:+0000
TZNAME:GMT
DTSTART:20241027T010000
END:STANDARD
BEGIN:DAYLIGHT
TZOFFSETFROM:+0000
TZOFFSETTO:+0100
TZNAME:BST
DTSTART:20250330T010000
END:DAYLIGHT
BEGIN:STANDARD
TZOFFSETFROM:+0100
TZOFFSETTO:+0000
TZNAME:GMT
DTSTART:20251026T010000
END:STANDARD
BEGIN:DAYLIGHT
TZOFFSETFROM:+0000
TZOFFSETTO:+0100
TZNAME:BST
DTSTART:20260329T010000
END:DAYLIGHT
BEGIN:STANDARD
TZOFFSETFROM:+0100
TZOFFSETTO:+0000
TZNAME:GMT
DTSTART:20261025T010000
END:STANDARD
END:VTIMEZONE
BEGIN:VEVENT
DTSTART;TZID=Europe/London:20250209T103000
DTEND;TZID=Europe/London:20250209T103000
DTSTAMP:20260424T084136
CREATED:20220804T210941Z
LAST-MODIFIED:20250117T144816Z
UID:2896-1739097000-1739097000@www.stmartinsmorden.org.uk
SUMMARY:Sunday service in church
DESCRIPTION:This Sunday continues our sermon series on BIG QUESTIONS \nSunday\, 19th January\, 10:30am Does God care about suffering? \nSunday 2nd February\, 10:30am Does God care about my anxiety? \nSunday 9th February\, 10:30am Does God care about justice? \nSunday 16th February\, 10:30am Does God care about the environment? \n  \nHope you can join us.
URL:https://www.stmartinsmorden.org.uk/event/sunday-service-in-church/
CATEGORIES:Sunday
END:VEVENT
BEGIN:VEVENT
DTSTART;TZID=Europe/London:20250330T103000
DTEND;TZID=Europe/London:20250330T120000
DTSTAMP:20260424T084136
CREATED:20180225T134521Z
LAST-MODIFIED:20250318T151057Z
UID:991-1743330600-1743336000@www.stmartinsmorden.org.uk
SUMMARY:Mothering Sunday
DESCRIPTION:Celebrate God’s gift of mothers!\n\nVisitors are very welcome.\n\nOur Sunday Club children will be sharing in the first part of this service and will then go to their own group.\n\nShare this Post
URL:https://www.stmartinsmorden.org.uk/event/mothering-sunday-service/
CATEGORIES:Sunday
END:VEVENT
BEGIN:VEVENT
DTSTART;TZID=Europe/London:20250406T103000
DTEND;TZID=Europe/London:20250406T103000
DTSTAMP:20260424T084136
CREATED:20180225T134502Z
LAST-MODIFIED:20250318T151404Z
UID:990-1743935400-1743935400@www.stmartinsmorden.org.uk
SUMMARY:Holy Communion service in church
DESCRIPTION:This Sunday is our monthly Communion service. \n  \n 
URL:https://www.stmartinsmorden.org.uk/event/holy-communion-service/
CATEGORIES:Sunday
END:VEVENT
BEGIN:VEVENT
DTSTART;TZID=Europe/London:20250413T103000
DTEND;TZID=Europe/London:20250413T103000
DTSTAMP:20260424T084136
CREATED:20170828T140015Z
LAST-MODIFIED:20250318T151648Z
UID:604-1744540200-1744540200@www.stmartinsmorden.org.uk
SUMMARY:Sunday service in church
DESCRIPTION:This Sunday is Palm Sunday. \nHope you can join us.
URL:https://www.stmartinsmorden.org.uk/event/sunday-service-2/
CATEGORIES:Sunday
END:VEVENT
BEGIN:VEVENT
DTSTART;TZID=Europe/London:20250420T103000
DTEND;TZID=Europe/London:20250420T103000
DTSTAMP:20260424T084136
CREATED:20170828T141826Z
LAST-MODIFIED:20250411T131825Z
UID:608-1745145000-1745145000@www.stmartinsmorden.org.uk
SUMMARY:Easter Sunday Celebration with All-Age Holy Communion plus Easter Egg Hunt
DESCRIPTION:Christ is risen! Celebrate with us!
URL:https://www.stmartinsmorden.org.uk/event/easter-sunday/
CATEGORIES:Sunday
END:VEVENT
BEGIN:VEVENT
DTSTART;TZID=Europe/London:20250525T103000
DTEND;TZID=Europe/London:20250525T113000
DTSTAMP:20260424T084136
CREATED:20231117T204543Z
LAST-MODIFIED:20250520T085422Z
UID:3178-1748169000-1748172600@www.stmartinsmorden.org.uk
SUMMARY:All Age Service
DESCRIPTION:Join us for a service that caters for the youngest to the oldest. Everyone welcome.
URL:https://www.stmartinsmorden.org.uk/event/all-age-service/
CATEGORIES:Sunday
END:VEVENT
END:VCALENDAR