BEGIN:VCALENDAR
VERSION:2.0
PRODID:-//St Martin&#039;s Morden SM4 - ECPv6.15.20//NONSGML v1.0//EN
CALSCALE:GREGORIAN
METHOD:PUBLISH
X-ORIGINAL-URL:https://www.stmartinsmorden.org.uk
X-WR-CALDESC:Events for St Martin&#039;s Morden SM4
REFRESH-INTERVAL;VALUE=DURATION:PT1H
X-Robots-Tag:noindex
X-PUBLISHED-TTL:PT1H
BEGIN:VTIMEZONE
TZID:Europe/London
BEGIN:DAYLIGHT
TZOFFSETFROM:+0000
TZOFFSETTO:+0100
TZNAME:BST
DTSTART:20180325T010000
END:DAYLIGHT
BEGIN:STANDARD
TZOFFSETFROM:+0100
TZOFFSETTO:+0000
TZNAME:GMT
DTSTART:20181028T010000
END:STANDARD
BEGIN:DAYLIGHT
TZOFFSETFROM:+0000
TZOFFSETTO:+0100
TZNAME:BST
DTSTART:20190331T010000
END:DAYLIGHT
BEGIN:STANDARD
TZOFFSETFROM:+0100
TZOFFSETTO:+0000
TZNAME:GMT
DTSTART:20191027T010000
END:STANDARD
BEGIN:DAYLIGHT
TZOFFSETFROM:+0000
TZOFFSETTO:+0100
TZNAME:BST
DTSTART:20200329T010000
END:DAYLIGHT
BEGIN:STANDARD
TZOFFSETFROM:+0100
TZOFFSETTO:+0000
TZNAME:GMT
DTSTART:20201025T010000
END:STANDARD
BEGIN:DAYLIGHT
TZOFFSETFROM:+0000
TZOFFSETTO:+0100
TZNAME:BST
DTSTART:20210328T010000
END:DAYLIGHT
BEGIN:STANDARD
TZOFFSETFROM:+0100
TZOFFSETTO:+0000
TZNAME:GMT
DTSTART:20211031T010000
END:STANDARD
BEGIN:DAYLIGHT
TZOFFSETFROM:+0000
TZOFFSETTO:+0100
TZNAME:BST
DTSTART:20220327T010000
END:DAYLIGHT
BEGIN:STANDARD
TZOFFSETFROM:+0100
TZOFFSETTO:+0000
TZNAME:GMT
DTSTART:20221030T010000
END:STANDARD
BEGIN:DAYLIGHT
TZOFFSETFROM:+0000
TZOFFSETTO:+0100
TZNAME:BST
DTSTART:20230326T010000
END:DAYLIGHT
BEGIN:STANDARD
TZOFFSETFROM:+0100
TZOFFSETTO:+0000
TZNAME:GMT
DTSTART:20231029T010000
END:STANDARD
BEGIN:DAYLIGHT
TZOFFSETFROM:+0000
TZOFFSETTO:+0100
TZNAME:BST
DTSTART:20240331T010000
END:DAYLIGHT
BEGIN:STANDARD
TZOFFSETFROM:+0100
TZOFFSETTO:+0000
TZNAME:GMT
DTSTART:20241027T010000
END:STANDARD
BEGIN:DAYLIGHT
TZOFFSETFROM:+0000
TZOFFSETTO:+0100
TZNAME:BST
DTSTART:20250330T010000
END:DAYLIGHT
BEGIN:STANDARD
TZOFFSETFROM:+0100
TZOFFSETTO:+0000
TZNAME:GMT
DTSTART:20251026T010000
END:STANDARD
END:VTIMEZONE
BEGIN:VEVENT
DTSTART;TZID=Europe/London:20240221T103000
DTEND;TZID=Europe/London:20240320T103000
DTSTAMP:20260421T170035
CREATED:20240130T133713Z
LAST-MODIFIED:20240216T224023Z
UID:3228-1708511400-1710930600@www.stmartinsmorden.org.uk
SUMMARY:Lent course - 'Tales of the Unexpected'
DESCRIPTION:This year for Lent we will be doing a four-session course called Tales of the Unexpected. This course looks at four startling stories that Jesus tells from Luke’s gospel. These stories tell us surprising things about ourselves\, God\, and life. Everyone is welcome to join us. \nYou can choose between Tuesday evenings or Wednesday mornings – or mix and match! \nThe dates and times are as follows: \nTuesday 20 Feb – 7:45pm; Wednesday 21 Feb – 10:30am \nTuesday 27 Feb – 7:45pm; Wednesday 28 Feb – 10:30am \nTuesday 12 March – 7:45pm; Wednesday 13 March – 10:30am \nTuesday 19 March – 7:45pm; Wednesday 20 March – 10:30am
URL:https://www.stmartinsmorden.org.uk/event/lent-course-2024-am/
CATEGORIES:Course,Lent Course
END:VEVENT
BEGIN:VEVENT
DTSTART;TZID=Europe/London:20240220T194500
DTEND;TZID=Europe/London:20240319T194500
DTSTAMP:20260421T170035
CREATED:20210207T185455Z
LAST-MODIFIED:20240216T224108Z
UID:2272-1708458300-1710877500@www.stmartinsmorden.org.uk
SUMMARY:Lent course - 'Tales of the Unexpected'
DESCRIPTION:This year for Lent we will be doing a four-session course called Tales of the Unexpected. This course looks at four startling stories that Jesus tells from Luke’s gospel. These stories tell us surprising things about ourselves\, God\, and life. Everyone is welcome to join us. \nYou can choose between Tuesday evenings or Wednesday mornings – or mix and match! \nThe dates and times are as follows: \nTuesday 20 Feb – 7:45pm; Wednesday 21 Feb – 10:30am \nTuesday 27 Feb – 7:45pm; Wednesday 28 Feb – 10:30am \nTuesday 12 March – 7:45pm; Wednesday 13 March – 10:30am \nTuesday 19 March – 7:45pm; Wednesday 20 March – 10:30am
URL:https://www.stmartinsmorden.org.uk/event/lent-course-2024-pm/
CATEGORIES:Course,Lent Course
END:VEVENT
BEGIN:VEVENT
DTSTART;TZID=Europe/London:20200226T150000
DTEND;TZID=Europe/London:20200226T150000
DTSTAMP:20260421T170035
CREATED:20191230T001435Z
LAST-MODIFIED:20200216T131009Z
UID:1895-1582729200-1582729200@www.stmartinsmorden.org.uk
SUMMARY:Talking Jesus
DESCRIPTION:A course to inspire us to share our faith and give us practical suggestions to help us talk naturally about Jesus.  There are 6 encouraging\, video-based sessions with short films\, testimonies and bible studies. \nWe are running afternoon sessions at 3pm and evening sessions at 7:45pm on the following days: \n26 February\n4 March\n11 March\n18 March\n25 March\n1 April \nThere is a course booklet priced £1.  If you’d like a booklet\, there is an order sheet at the back of the church. \n\n\n\nShare this Post
URL:https://www.stmartinsmorden.org.uk/event/talking-jesus/
CATEGORIES:Lent Course
END:VEVENT
BEGIN:VEVENT
DTSTART;TZID=Europe/London:20190306T194500
DTEND;TZID=Europe/London:20190306T194500
DTSTAMP:20260421T170035
CREATED:20190226T212442Z
LAST-MODIFIED:20190226T212442Z
UID:1628-1551901500-1551901500@www.stmartinsmorden.org.uk
SUMMARY:God's Big Picture
DESCRIPTION:For our Lent course this year\, we will be looking at the grand story of the Bible. \nPlease join us at 7:45pm on the following dates: 6 March\, 13 March\, 27 March\, 3 April\, 24 April\, 1 May\, 8 May \nIf you would like a copy of the book that accompanies the course\, please sign up at church. Books cost £5. \n\n\n\nShare this Post
URL:https://www.stmartinsmorden.org.uk/event/gods-big-picture/
CATEGORIES:Lent Course
END:VEVENT
END:VCALENDAR