BEGIN:VCALENDAR
VERSION:2.0
PRODID:-//St Martin&#039;s Morden SM4 - ECPv6.15.20//NONSGML v1.0//EN
CALSCALE:GREGORIAN
METHOD:PUBLISH
X-ORIGINAL-URL:https://www.stmartinsmorden.org.uk
X-WR-CALDESC:Events for St Martin&#039;s Morden SM4
REFRESH-INTERVAL;VALUE=DURATION:PT1H
X-Robots-Tag:noindex
X-PUBLISHED-TTL:PT1H
BEGIN:VTIMEZONE
TZID:Europe/London
BEGIN:DAYLIGHT
TZOFFSETFROM:+0000
TZOFFSETTO:+0100
TZNAME:BST
DTSTART:20170326T010000
END:DAYLIGHT
BEGIN:STANDARD
TZOFFSETFROM:+0100
TZOFFSETTO:+0000
TZNAME:GMT
DTSTART:20171029T010000
END:STANDARD
BEGIN:DAYLIGHT
TZOFFSETFROM:+0000
TZOFFSETTO:+0100
TZNAME:BST
DTSTART:20180325T010000
END:DAYLIGHT
BEGIN:STANDARD
TZOFFSETFROM:+0100
TZOFFSETTO:+0000
TZNAME:GMT
DTSTART:20181028T010000
END:STANDARD
BEGIN:DAYLIGHT
TZOFFSETFROM:+0000
TZOFFSETTO:+0100
TZNAME:BST
DTSTART:20190331T010000
END:DAYLIGHT
BEGIN:STANDARD
TZOFFSETFROM:+0100
TZOFFSETTO:+0000
TZNAME:GMT
DTSTART:20191027T010000
END:STANDARD
BEGIN:DAYLIGHT
TZOFFSETFROM:+0000
TZOFFSETTO:+0100
TZNAME:BST
DTSTART:20200329T010000
END:DAYLIGHT
BEGIN:STANDARD
TZOFFSETFROM:+0100
TZOFFSETTO:+0000
TZNAME:GMT
DTSTART:20201025T010000
END:STANDARD
BEGIN:DAYLIGHT
TZOFFSETFROM:+0000
TZOFFSETTO:+0100
TZNAME:BST
DTSTART:20210328T010000
END:DAYLIGHT
BEGIN:STANDARD
TZOFFSETFROM:+0100
TZOFFSETTO:+0000
TZNAME:GMT
DTSTART:20211031T010000
END:STANDARD
BEGIN:DAYLIGHT
TZOFFSETFROM:+0000
TZOFFSETTO:+0100
TZNAME:BST
DTSTART:20220327T010000
END:DAYLIGHT
BEGIN:STANDARD
TZOFFSETFROM:+0100
TZOFFSETTO:+0000
TZNAME:GMT
DTSTART:20221030T010000
END:STANDARD
BEGIN:DAYLIGHT
TZOFFSETFROM:+0000
TZOFFSETTO:+0100
TZNAME:BST
DTSTART:20230326T010000
END:DAYLIGHT
BEGIN:STANDARD
TZOFFSETFROM:+0100
TZOFFSETTO:+0000
TZNAME:GMT
DTSTART:20231029T010000
END:STANDARD
BEGIN:DAYLIGHT
TZOFFSETFROM:+0000
TZOFFSETTO:+0100
TZNAME:BST
DTSTART:20240331T010000
END:DAYLIGHT
BEGIN:STANDARD
TZOFFSETFROM:+0100
TZOFFSETTO:+0000
TZNAME:GMT
DTSTART:20241027T010000
END:STANDARD
BEGIN:DAYLIGHT
TZOFFSETFROM:+0000
TZOFFSETTO:+0100
TZNAME:BST
DTSTART:20250330T010000
END:DAYLIGHT
BEGIN:STANDARD
TZOFFSETFROM:+0100
TZOFFSETTO:+0000
TZNAME:GMT
DTSTART:20251026T010000
END:STANDARD
BEGIN:DAYLIGHT
TZOFFSETFROM:+0000
TZOFFSETTO:+0100
TZNAME:BST
DTSTART:20260329T010000
END:DAYLIGHT
BEGIN:STANDARD
TZOFFSETFROM:+0100
TZOFFSETTO:+0000
TZNAME:GMT
DTSTART:20261025T010000
END:STANDARD
END:VTIMEZONE
BEGIN:VEVENT
DTSTART;TZID=Europe/London:20250418T140000
DTEND;TZID=Europe/London:20250418T140000
DTSTAMP:20260421T095010
CREATED:20180107T143004Z
LAST-MODIFIED:20250318T155152Z
UID:903-1744984800-1744984800@www.stmartinsmorden.org.uk
SUMMARY:Good Friday Meditations: at the foot of the cross
DESCRIPTION:Join us for our Good Friday meditations \nAt the Foot of the Cross\n18th April | 2pm
URL:https://www.stmartinsmorden.org.uk/event/good-friday/
CATEGORIES:Additional service,Holy Week
ATTACH;FMTTYPE=image/jpeg:https://www.stmartinsmorden.org.uk/wp-content/uploads/2021/03/This-is-LOVE.jpg
END:VEVENT
BEGIN:VEVENT
DTSTART;TZID=Europe/London:20250418T083000
DTEND;TZID=Europe/London:20250418T103000
DTSTAMP:20260421T095011
CREATED:20220404T182009Z
LAST-MODIFIED:20250318T154805Z
UID:2755-1744965000-1744972200@www.stmartinsmorden.org.uk
SUMMARY:Good Friday Family Breakfast Service
DESCRIPTION:Good Friday Family Breakfast Service \nJoin us for breakfast followed by a lively service for children.
URL:https://www.stmartinsmorden.org.uk/event/good-friday-family-breakfast-service/
CATEGORIES:Additional service,Holy Week
END:VEVENT
BEGIN:VEVENT
DTSTART;TZID=Europe/London:20241224T231500
DTEND;TZID=Europe/London:20241224T231500
DTSTAMP:20260421T095011
CREATED:20171112T203307Z
LAST-MODIFIED:20241202T223859Z
UID:700-1735082100-1735082100@www.stmartinsmorden.org.uk
SUMMARY:Midnight Communion
DESCRIPTION:Welcome Christmas Day in with a quiet reflective service\nVisitors are very welcome.\n\nShare this Post
URL:https://www.stmartinsmorden.org.uk/event/midnight-communion/
CATEGORIES:Additional service,Christmas
ATTACH;FMTTYPE=image/png:https://www.stmartinsmorden.org.uk/wp-content/uploads/2017/11/shooting-star-147722_640.png
END:VEVENT
BEGIN:VEVENT
DTSTART;TZID=Europe/London:20241224T160000
DTEND;TZID=Europe/London:20241224T160000
DTSTAMP:20260421T095011
CREATED:20171112T203851Z
LAST-MODIFIED:20241202T223733Z
UID:701-1735056000-1735056000@www.stmartinsmorden.org.uk
SUMMARY:Crib & Christingle
DESCRIPTION:Sing carols round the crib and light a Christingle. Everyone warmly welcomed. \n\n\nShare this Post
URL:https://www.stmartinsmorden.org.uk/event/christmas-eve-family-service/
CATEGORIES:Additional service,Christmas
ATTACH;FMTTYPE=image/png:https://www.stmartinsmorden.org.uk/wp-content/uploads/2016/10/christingle-01.png
END:VEVENT
BEGIN:VEVENT
DTSTART;TZID=Europe/London:20241222T183000
DTEND;TZID=Europe/London:20241222T183000
DTSTAMP:20260421T095011
CREATED:20171112T204349Z
LAST-MODIFIED:20241202T223624Z
UID:702-1734892200-1734892200@www.stmartinsmorden.org.uk
SUMMARY:Carols by Candlelight
DESCRIPTION:Carols and Bible readings to inspire as we hear again of the wonderful events of the first Christmas. \nAn atmospheric service with choir\, carols and readings\, followed by mulled wine & mince pies \nVisitors are very welcome.\n\n\n\n\nShare this Post
URL:https://www.stmartinsmorden.org.uk/event/carols-by-candlelight-2019/
CATEGORIES:Additional service,Christmas,Sunday,Sunday Christmas
ATTACH;FMTTYPE=image/png:https://www.stmartinsmorden.org.uk/wp-content/uploads/2017/11/christmas-1111751_640.png
END:VEVENT
BEGIN:VEVENT
DTSTART;TZID=Europe/London:20240509T200000
DTEND;TZID=Europe/London:20240509T200000
DTSTAMP:20260421T095011
CREATED:20180307T205544Z
LAST-MODIFIED:20240503T173340Z
UID:1051-1715284800-1715284800@www.stmartinsmorden.org.uk
SUMMARY:Parish Ascension Day Service (at Emmanuel Church Stonecot Hill)
DESCRIPTION:We will be having a joint service with the other churches in our team for Ascension Day. The service will be at Emmanuel Church\, Dudley Drive. The service will be followed by refreshments \n\n\n\nShare this Post
URL:https://www.stmartinsmorden.org.uk/event/ascension-day-2021/
LOCATION:St Lawrence church
CATEGORIES:Additional service
END:VEVENT
BEGIN:VEVENT
DTSTART;TZID=Europe/London:20240214T103000
DTEND;TZID=Europe/London:20240214T200000
DTSTAMP:20260421T095011
CREATED:20210130T230232Z
LAST-MODIFIED:20240130T132358Z
UID:2260-1707906600-1707940800@www.stmartinsmorden.org.uk
SUMMARY:Ash Wednesday Holy Communion service
DESCRIPTION:Our annual Communion service marking the start of Lent.
URL:https://www.stmartinsmorden.org.uk/event/ash-wednesday-2021/
CATEGORIES:Additional service
END:VEVENT
BEGIN:VEVENT
DTSTART;TZID=Europe/London:20220414T200000
DTEND;TZID=Europe/London:20220414T200000
DTSTAMP:20260421T095011
CREATED:20180107T142931Z
LAST-MODIFIED:20220406T174243Z
UID:901-1649966400-1649966400@www.stmartinsmorden.org.uk
SUMMARY:Maundy Thursday Communion Service - in church and livestreamed
DESCRIPTION:This year’s Maundy Thursday Communion Service will be in St Martin’s. We will be joined by our friends from Morden Park Baptist Church. The service will also be livestreamed.
URL:https://www.stmartinsmorden.org.uk/event/maundy-thursday-2022/
CATEGORIES:Additional service,Holy Week
END:VEVENT
BEGIN:VEVENT
DTSTART;TZID=Europe/London:20210305T190000
DTEND;TZID=Europe/London:20210305T190000
DTSTAMP:20260421T095011
CREATED:20210220T221332Z
LAST-MODIFIED:20210220T221332Z
UID:2288-1614970800-1614970800@www.stmartinsmorden.org.uk
SUMMARY:World day of prayer (via Zoom)
DESCRIPTION:The service this year is written by the women of Vanuatu and there are zoom services from Wallington Baptist Church at 2pm and 7pm.  You need to book a place in advance for your chosen service. \nThose without Internet access will be reading through the service individually in their own homes at 10.45am as an act of unity. \nSt. Martin’s takeaway has details of how to book your place and how to get a booklet for the service. \nPlease do keep the wave of prayer going round the world on that day. The service is inclusive for all. Any donations to be made individually this year.
URL:https://www.stmartinsmorden.org.uk/event/world-day-of-prayer-2021-7pm/
CATEGORIES:Additional service
END:VEVENT
BEGIN:VEVENT
DTSTART;TZID=Europe/London:20210305T140000
DTEND;TZID=Europe/London:20210305T140000
DTSTAMP:20260421T095011
CREATED:20210220T221348Z
LAST-MODIFIED:20210220T221348Z
UID:2287-1614952800-1614952800@www.stmartinsmorden.org.uk
SUMMARY:World day of prayer (via Zoom)
DESCRIPTION:The service this year is written by the women of Vanuatu and there are zoom services from Wallington Baptist Church at 2pm and 7pm.  You need to book a place in advance for your chosen service. \nThose without Internet access will be reading through the service individually in their own homes at 10.45am as an act of unity. \nSt. Martin’s takeaway has details of how to book your place and how to get a booklet for the service. \nPlease do keep the wave of prayer going round the world on that day. The service is inclusive for all. Any donations to be made individually this year.
URL:https://www.stmartinsmorden.org.uk/event/world-day-of-prayer-2021-2pm/
CATEGORIES:Additional service
END:VEVENT
BEGIN:VEVENT
DTSTART;TZID=Europe/London:20200306T104500
DTEND;TZID=Europe/London:20200306T104500
DTSTAMP:20260421T095011
CREATED:20200219T224231Z
LAST-MODIFIED:20200219T225730Z
UID:1956-1583491500-1583491500@www.stmartinsmorden.org.uk
SUMMARY:World day of prayer (at Morden Baptist Church)
DESCRIPTION:  \n  \n  \n  \n  \n  \nThis year’s service will be held at Morden Baptist Church and has been prepared by the women of Zimbabwe. \nIt will be followed by a fellowship lunch. \nShare this Post
URL:https://www.stmartinsmorden.org.uk/event/world-day-of-prayer-2020/
CATEGORIES:Additional service
END:VEVENT
BEGIN:VEVENT
DTSTART;TZID=Europe/London:20200226T100000
DTEND;TZID=Europe/London:20200226T100000
DTSTAMP:20260421T095011
CREATED:20180211T173512Z
LAST-MODIFIED:20200219T225722Z
UID:952-1582711200-1582711200@www.stmartinsmorden.org.uk
SUMMARY:Ash Wednesday service (at Emmanuel)
DESCRIPTION:The parish’s annual service marking the start of Lent. \n\n\n\nShare this Post
URL:https://www.stmartinsmorden.org.uk/event/ash-wednesday-2020/
LOCATION:Emmanuel Church\, Dudley Drive\, SM4 4RJ\, United Kingdom
CATEGORIES:Additional service
END:VEVENT
BEGIN:VEVENT
DTSTART;TZID=Europe/London:20191225T103000
DTEND;TZID=Europe/London:20191225T103000
DTSTAMP:20260421T095011
CREATED:20171112T202824Z
LAST-MODIFIED:20191009T211758Z
UID:699-1577269800-1577269800@www.stmartinsmorden.org.uk
SUMMARY:Family Christmas celebration
DESCRIPTION:Come and celebrate Jesus’ birthday\, bring a toy to show and join us in singing God’s praise.\nVisitors are welcome.\n\n\n\nShare this Post
URL:https://www.stmartinsmorden.org.uk/event/christmas-day-2019/
CATEGORIES:Additional service,Christmas
ATTACH;FMTTYPE=image/png:https://www.stmartinsmorden.org.uk/wp-content/uploads/2016/10/christmas-day-01.png
END:VEVENT
BEGIN:VEVENT
DTSTART;TZID=Europe/London:20191210T190000
DTEND;TZID=Europe/London:20191210T190000
DTSTAMP:20260421T095011
CREATED:20171127T191051Z
LAST-MODIFIED:20191009T210232Z
UID:831-1576004400-1576004400@www.stmartinsmorden.org.uk
SUMMARY:Scout Christingle
DESCRIPTION:Share this Post
URL:https://www.stmartinsmorden.org.uk/event/scout-christingle-2019/
CATEGORIES:Additional service
ATTACH;FMTTYPE=image/png:https://www.stmartinsmorden.org.uk/wp-content/uploads/2016/10/christingle-01.png
END:VEVENT
BEGIN:VEVENT
DTSTART;TZID=Europe/London:20190301T104500
DTEND;TZID=Europe/London:20190301T104500
DTSTAMP:20260421T095011
CREATED:20190225T215252Z
LAST-MODIFIED:20190318T203522Z
UID:1608-1551437100-1551437100@www.stmartinsmorden.org.uk
SUMMARY:World day of prayer
DESCRIPTION:This year’s service has been prepared by the women of Slovenia. \nIt will be followed by a light lunch. \nImage by pohjakroon on Pixabay \nShare this Post
URL:https://www.stmartinsmorden.org.uk/event/world-day-of-prayer-2019/
CATEGORIES:Additional service
END:VEVENT
BEGIN:VEVENT
DTSTART;TZID=Europe/London:20181104T150000
DTEND;TZID=Europe/London:20181104T150000
DTSTAMP:20260421T095011
CREATED:20180930T150625Z
LAST-MODIFIED:20181104T125604Z
UID:1394-1541343600-1541343600@www.stmartinsmorden.org.uk
SUMMARY:Parish memorial service @ St. Lawrence's church
DESCRIPTION:Our annual memorial service will take place at St. Lawrence’s church. \nIf there is a particular name you would like to be read out\, please fill in a card on the day. \n  \nShare this Post
URL:https://www.stmartinsmorden.org.uk/event/parish-memorial-service-2018/
LOCATION:St Lawrence church
CATEGORIES:Additional service,Sunday
END:VEVENT
BEGIN:VEVENT
DTSTART;TZID=Europe/London:20180302T104500
DTEND;TZID=Europe/London:20180302T114500
DTSTAMP:20260421T095011
CREATED:20180225T135651Z
LAST-MODIFIED:20180225T151410Z
UID:1010-1519987500-1519991100@www.stmartinsmorden.org.uk
SUMMARY:Women's World Day of Prayer (men also welcome) at Emmanuel Church
DESCRIPTION:This year’s service is called “All God’s Creation is Very Good” and it has been prepared by the women of Suriname.   \nIt will be followed by a buffet lunch. There is no need to book\, but there is a suggested donation of £3. \n  \nShare this Post
URL:https://www.stmartinsmorden.org.uk/event/womens-world-day-2018/
LOCATION:Emmanuel Church\, Dudley Drive\, SM4 4RJ\, United Kingdom
CATEGORIES:Additional service
END:VEVENT
END:VCALENDAR